BEGIN:VCALENDAR
VERSION:2.0
PRODID:-//FRC Church - ECPv5.1.4//NONSGML v1.0//EN
CALSCALE:GREGORIAN
METHOD:PUBLISH
X-WR-CALNAME:FRC Church
X-ORIGINAL-URL:https://frcfremont.org/church
X-WR-CALDESC:Events for FRC Church
BEGIN:VTIMEZONE
TZID:America/New_York
BEGIN:DAYLIGHT
TZOFFSETFROM:-0500
TZOFFSETTO:-0400
TZNAME:EDT
DTSTART:20260308T070000
END:DAYLIGHT
BEGIN:STANDARD
TZOFFSETFROM:-0400
TZOFFSETTO:-0500
TZNAME:EST
DTSTART:20261101T060000
END:STANDARD
END:VTIMEZONE
BEGIN:VEVENT
DTSTART;TZID=America/New_York:20260125T100000
DTEND;TZID=America/New_York:20260125T110000
DTSTAMP:20260420T135553
CREATED:20260123T181523Z
LAST-MODIFIED:20260123T181523Z
UID:33393-1769335200-1769338800@frcfremont.org
SUMMARY:Worship Message - Uncomfortable
DESCRIPTION:\nThe world offers a lot of comforts! At times\, it can feel like what God offers us is not always comfortable. But consider that the only true comfort in this world is found in the one and only Savior of the world\, Christ Jesus. Jesus defines comfort differently than the world. If we are to have a hope and a future outside of this world\, we also need to look at comfort differently than the world does. Today\, we conclude the story of Stephen (from Acts 7)\, who gave up his own comforts for the comfort of his Lord and Savior and the early church\, who through their newfound discomfort\, launched the Gospel outside of the walls of Jerusalem.\n\n\n\nPlease join us today for a relevant and thought-provoking message! Listen on Facebook live\, watch on YouTube\, or worship in-person in our spacious\, comfortable auditorium!\n\n
URL:https://frcfremont.org/church/event/worship-message-uncomfortable/
LOCATION:FRC\, 348 East Main St.\, Fremont\, MI\, 49412
CATEGORIES:Community,Fellowship
ATTACH;FMTTYPE=image/png:https://frcfremont.org/church/wp-content/uploads/2026/01/uncomfortable.png
END:VEVENT
BEGIN:VEVENT
DTSTART;TZID=America/New_York:20260125T113000
DTEND;TZID=America/New_York:20260125T130000
DTSTAMP:20260420T135553
CREATED:20251203T192141Z
LAST-MODIFIED:20251203T192141Z
UID:33164-1769340600-1769346000@frcfremont.org
SUMMARY:Women's Bi-Weekly Bible Study
DESCRIPTION:Do you long to understand the Bible more clearly & accurately? Do you want to learn how to get it right & not misinterpret or misuse God’s Word? If so\, come to our Women’s Bible Study & learn how Bible interpretation is something YOU can do! Hosted by Shelley & Sarah\, and based on the book by Richard L. Schultz\, this bi-weekly study will enlighten you as you grow in your Bible reading & understanding! \nOur Women’s Bible Study starts Sunday\, January 11 and runs bi-weekly through March 22. Lunch will be served at 11:30 am and the study will begin at 12 noon. Please sign up if you plan to attend\, so we can have enough books and food for everyone. Any questions\, see Shelley or Sarah or call/message the church office. \nPlease sign up here: Women’s Bible Study Registration \n
URL:https://frcfremont.org/church/event/womens-bi-weekly-bible-study/2026-01-25/
LOCATION:FRC\, 348 East Main St.\, Fremont\, MI\, 49412
CATEGORIES:Community,Fellowship
ATTACH;FMTTYPE=image/png:https://frcfremont.org/church/wp-content/uploads/2025/12/Untitled-design-2.png
END:VEVENT
BEGIN:VEVENT
DTSTART;TZID=America/New_York:20260125T113000
DTEND;TZID=America/New_York:20260125T130000
DTSTAMP:20260420T135553
CREATED:20251217T184751Z
LAST-MODIFIED:20251217T184751Z
UID:33245-1769340600-1769346000@frcfremont.org
SUMMARY:Men's Bi-Weekly Bible Study
DESCRIPTION:Men’s Bible Study will regroup starting in January and run bi-weekly starting January 11. Over the course of 6 weeks\, we will look at the importance of literary\, historical\, and cultural context and connected prophecy. We will be drawing from\, but NOT reading these books\, Grasping God’s Word by Duvall & Hays\, and Deep Exegesis by Peter Leithart. Each week\, we will read and study a passage of Scripture that demonstrates in an easy-to-understand way how these interpretive considerations are applied. A lunch will be provided at 11:30 am\, and the study will begin at 12 noon. Add your name to the list at the Sign Up Center or click the link Men’s Bible Study  to sign up so we can plan on how much food to bring. Please see Pastor Luke or Al V. if you have any questions. \n  \n  \n
URL:https://frcfremont.org/church/event/mens-bi-weekly-bible-study-4/2026-01-25/
LOCATION:FRC\, 348 East Main St.\, Fremont\, MI\, 49412
CATEGORIES:Community,Fellowship
ATTACH;FMTTYPE=image/png:https://frcfremont.org/church/wp-content/uploads/2025/12/Men’s-Bible-Study.png
END:VEVENT
END:VCALENDAR