BEGIN:VCALENDAR
VERSION:2.0
PRODID:-//FRC Church - ECPv5.1.4//NONSGML v1.0//EN
CALSCALE:GREGORIAN
METHOD:PUBLISH
X-WR-CALNAME:FRC Church
X-ORIGINAL-URL:https://frcfremont.org/church
X-WR-CALDESC:Events for FRC Church
BEGIN:VTIMEZONE
TZID:America/New_York
BEGIN:DAYLIGHT
TZOFFSETFROM:-0500
TZOFFSETTO:-0400
TZNAME:EDT
DTSTART:20260308T070000
END:DAYLIGHT
BEGIN:STANDARD
TZOFFSETFROM:-0400
TZOFFSETTO:-0500
TZNAME:EST
DTSTART:20261101T060000
END:STANDARD
END:VTIMEZONE
BEGIN:VEVENT
DTSTART;TZID=America/New_York:20260123T180000
DTEND;TZID=America/New_York:20260123T200000
DTSTAMP:20260420T151947
CREATED:20251230T183129Z
LAST-MODIFIED:20251230T183129Z
UID:33297-1769191200-1769198400@frcfremont.org
SUMMARY:FRC Game Night & Chili Cookoff
DESCRIPTION:Join us Friday\, January 23 from 6-8 pm for a Chili Cookoff and Game Night! Think you have the best chili around? Swing by on a Sunday and add your name to the list at the Signup Center to bring a dish! All chili dishes will be entered to compete for the “Best Chili” award\, a prize\, and bragging rights. If cooking isn’t your thing\, come on down to taste test the entries and vote! Then\, stick around to play some games! This event is for the whole family. We will be taking monetary donations (suggested $5 a person and $15 a family) with all proceeds going to our Parking Lot Fund. \n
URL:https://frcfremont.org/church/event/frc-game-night-chili-cookoff/
LOCATION:FRC\, 348 East Main St.\, Fremont\, MI\, 49412
CATEGORIES:Community,Fellowship
ATTACH;FMTTYPE=image/png:https://frcfremont.org/church/wp-content/uploads/2025/12/Game-Night-Chili-Cookoff-Long-2026.png
END:VEVENT
END:VCALENDAR