BEGIN:VCALENDAR
VERSION:2.0
PRODID:-//FRC Church - ECPv5.1.4//NONSGML v1.0//EN
CALSCALE:GREGORIAN
METHOD:PUBLISH
X-WR-CALNAME:FRC Church
X-ORIGINAL-URL:https://frcfremont.org/church
X-WR-CALDESC:Events for FRC Church
BEGIN:VTIMEZONE
TZID:America/New_York
BEGIN:DAYLIGHT
TZOFFSETFROM:-0500
TZOFFSETTO:-0400
TZNAME:EDT
DTSTART:20260308T070000
END:DAYLIGHT
BEGIN:STANDARD
TZOFFSETFROM:-0400
TZOFFSETTO:-0500
TZNAME:EST
DTSTART:20261101T060000
END:STANDARD
END:VTIMEZONE
BEGIN:VEVENT
DTSTART;TZID=America/New_York:20260104T100000
DTEND;TZID=America/New_York:20260104T110000
DTSTAMP:20260420T135531
CREATED:20260102T175232Z
LAST-MODIFIED:20260102T175232Z
UID:33300-1767520800-1767524400@frcfremont.org
SUMMARY:Worship Message: Christ Came Near in Advent: How Do We Remain Near?
DESCRIPTION:\nImmanuel means “God with us.” In the Christmas song “Joy to the World\,” we sing the line\, ”Let every heart prepare him room\,” and we acknowledge that through faith\, we are reconciled to God. But how do we remain in Christ and abide in Him? James 4 gives some helpful insight to this question!\n\n\n\nPlease join us today for a relevant and timely message! Listen on Facebook live\, watch on YouTube\, or worship in-person in our spacious\, comfortable auditorium!\n\n
URL:https://frcfremont.org/church/event/worship-message-christ-came-near-in-advent-how-do-we-remain-near/
LOCATION:FRC\, 348 East Main St.\, Fremont\, MI\, 49412
CATEGORIES:Community,Fellowship
ATTACH;FMTTYPE=image/png:https://frcfremont.org/church/wp-content/uploads/2026/01/Near.png
END:VEVENT
END:VCALENDAR