BEGIN:VCALENDAR
VERSION:2.0
PRODID:-//FRC Church - ECPv5.1.4//NONSGML v1.0//EN
CALSCALE:GREGORIAN
METHOD:PUBLISH
X-WR-CALNAME:FRC Church
X-ORIGINAL-URL:https://frcfremont.org/church
X-WR-CALDESC:Events for FRC Church
BEGIN:VTIMEZONE
TZID:America/New_York
BEGIN:DAYLIGHT
TZOFFSETFROM:-0500
TZOFFSETTO:-0400
TZNAME:EDT
DTSTART:20250309T070000
END:DAYLIGHT
BEGIN:STANDARD
TZOFFSETFROM:-0400
TZOFFSETTO:-0500
TZNAME:EST
DTSTART:20251102T060000
END:STANDARD
END:VTIMEZONE
BEGIN:VEVENT
DTSTART;TZID=America/New_York:20251130T100000
DTEND;TZID=America/New_York:20251130T110000
DTSTAMP:20260420T152115
CREATED:20251126T184728Z
LAST-MODIFIED:20251126T184728Z
UID:33147-1764496800-1764500400@frcfremont.org
SUMMARY:Worship Message: Wisdom and Words
DESCRIPTION:What is the opposite of wisdom? A short and simple answer would be foolishness. What is one mark of foolishness? According to this morning’s Bible passage\, it is speaking whatever comes to mind without a filter and without self-control. In these verses\, God calls us to wisdom with our words. But what might this look like for YOU? Today\, we will examine the call! \nPlease join us today for a thought-provoking and timely message! Listen on Facebook live\, watch on YouTube\, or worship in-person in our spacious\, comfortable auditorium! \n  \n
URL:https://frcfremont.org/church/event/worship-message-wisdom-and-words/
LOCATION:FRC\, 348 East Main St.\, Fremont\, MI\, 49412
CATEGORIES:Community,Fellowship
ATTACH;FMTTYPE=image/png:https://frcfremont.org/church/wp-content/uploads/2025/11/Wisdom-6.png
END:VEVENT
END:VCALENDAR