BEGIN:VCALENDAR
VERSION:2.0
PRODID:-//FRC Church - ECPv5.1.4//NONSGML v1.0//EN
CALSCALE:GREGORIAN
METHOD:PUBLISH
X-WR-CALNAME:FRC Church
X-ORIGINAL-URL:https://frcfremont.org/church
X-WR-CALDESC:Events for FRC Church
BEGIN:VTIMEZONE
TZID:America/New_York
BEGIN:DAYLIGHT
TZOFFSETFROM:-0500
TZOFFSETTO:-0400
TZNAME:EDT
DTSTART:20250309T070000
END:DAYLIGHT
BEGIN:STANDARD
TZOFFSETFROM:-0400
TZOFFSETTO:-0500
TZNAME:EST
DTSTART:20251102T060000
END:STANDARD
END:VTIMEZONE
BEGIN:VEVENT
DTSTART;TZID=America/New_York:20251126T190000
DTEND;TZID=America/New_York:20251126T200000
DTSTAMP:20260420T184113
CREATED:20250820T175811Z
LAST-MODIFIED:20251106T150618Z
UID:32903-1764183600-1764187200@frcfremont.org
SUMMARY:Pie & Praise – Thanksgiving Worship Service @ 7 pm
DESCRIPTION:Please join us for a praise-filled Thanksgiving Service\, along with a sampling of tasty pie\, on Wednesday\, November 26 at 7 pm! We will have a dynamic and family-friendly worship service\, giving everyone an opportunity to thank our Lord for His abundant blessings and loving kindness! After the service\, we will enjoy delicious homemade pies in honor of a classic Thanksgiving tradition. \nFor more info\, see our Facebook page: FRC Pie & Praise \nIt isn’t Thanksgiving until we have worship! Bring your friends\, neighbors\, and the whole family and join us as we pour out praise to God for who He is and what He has done! Hope to see you there! \n(This event will be livestreamed on our YouTube channel and Facebook Live. Nursery services will be unavailable.) \n
URL:https://frcfremont.org/church/event/pie-praise-thanksgiving-worship-service-7-pm/
LOCATION:FRC\, 348 East Main St.\, Fremont\, MI\, 49412
CATEGORIES:Community,Fellowship
ATTACH;FMTTYPE=image/png:https://frcfremont.org/church/wp-content/uploads/2025/08/November-26-@-700-p.m..png
END:VEVENT
END:VCALENDAR