BEGIN:VCALENDAR
VERSION:2.0
PRODID:-//FRC Church - ECPv5.1.4//NONSGML v1.0//EN
CALSCALE:GREGORIAN
METHOD:PUBLISH
X-WR-CALNAME:FRC Church
X-ORIGINAL-URL:https://frcfremont.org/church
X-WR-CALDESC:Events for FRC Church
BEGIN:VTIMEZONE
TZID:America/New_York
BEGIN:DAYLIGHT
TZOFFSETFROM:-0500
TZOFFSETTO:-0400
TZNAME:EDT
DTSTART:20250309T070000
END:DAYLIGHT
BEGIN:STANDARD
TZOFFSETFROM:-0400
TZOFFSETTO:-0500
TZNAME:EST
DTSTART:20251102T060000
END:STANDARD
END:VTIMEZONE
BEGIN:VEVENT
DTSTART;TZID=America/New_York:20251116T100000
DTEND;TZID=America/New_York:20251116T110000
DTSTAMP:20260420T165734
CREATED:20251114T155159Z
LAST-MODIFIED:20251114T155244Z
UID:33062-1763287200-1763290800@frcfremont.org
SUMMARY:Worship Message: Faith & Favoritism
DESCRIPTION:What is faith\, and what is a mark of having it? The most important verses in Scripture are: “’Love the Lord your God with all your heart and with all your soul and with all your mind and with all your strength.’ The second is this: ‘Love your neighbor as yourself.’ There is no commandment greater than these.” (Mark 12:30-31) If we have faith\, we will seek to obey and follow this. What might be an obstacle to this? One temptation is to show favoritism. Practically speaking\, this means loving and showing kindness to those we like\, while withholding it from others. If we have faith\, we are to avoid favoritism and put it into action with ALL people. This is not easy . . . and yet this is our call! \nPlease join us today for a relevant timely message! Listen on Facebook live\, watch on YouTube\, or worship in-person in our spacious\, comfortable auditorium! \n
URL:https://frcfremont.org/church/event/worship-message-faith-favoritism/
LOCATION:FRC\, 348 East Main St.\, Fremont\, MI\, 49412
CATEGORIES:Community,Fellowship
ATTACH;FMTTYPE=image/png:https://frcfremont.org/church/wp-content/uploads/2025/11/Your-paragraph-text-Facebook-Cover.png
END:VEVENT
END:VCALENDAR