BEGIN:VCALENDAR
VERSION:2.0
PRODID:-//FRC Church - ECPv5.1.4//NONSGML v1.0//EN
CALSCALE:GREGORIAN
METHOD:PUBLISH
X-WR-CALNAME:FRC Church
X-ORIGINAL-URL:https://frcfremont.org/church
X-WR-CALDESC:Events for FRC Church
BEGIN:VTIMEZONE
TZID:America/New_York
BEGIN:DAYLIGHT
TZOFFSETFROM:-0500
TZOFFSETTO:-0400
TZNAME:EDT
DTSTART:20240310T070000
END:DAYLIGHT
BEGIN:STANDARD
TZOFFSETFROM:-0400
TZOFFSETTO:-0500
TZNAME:EST
DTSTART:20241103T060000
END:STANDARD
END:VTIMEZONE
BEGIN:VEVENT
DTSTART;TZID=America/New_York:20241208T100000
DTEND;TZID=America/New_York:20241208T110000
DTSTAMP:20260421T214938
CREATED:20241127T143738Z
LAST-MODIFIED:20241206T191933Z
UID:32015-1733652000-1733655600@frcfremont.org
SUMMARY:Worship Message - Advent Series Week Two - Peace
DESCRIPTION:\nToday is week two of our Advent Series called Angels and Songs. Throughout this series\, we will sing with Zechariah\, Mary\, and the angels\, and receive heavenly correspondence from heavenly messengers.\n\n\nHope for God’s people has been rekindled! And now\, in a remarkable demonstration of God’s lavish grace\, God sends an angel to announce God’s favor to Mary: “The promised Savior is coming through you!” Yet it is not Mary’s favor with God that is central here. Rather\, Mary’s faithful submission to God’s plans flourishes in God’s overshadowing presence: the Lord is with you!\n\n\n\nWhat seemed impossible—both that God would send the Savior and that Mary\, a woman with no husband and no social standing\, would be part of God’s unfolding plan—becomes a reality because of God’s overshadowing\, loving presence. Mary’s response invites us into a posture of receiving and recognizing God’s presence with us as we watch and wait with anticipation for God’s salvation.\n\n\n\n\n\nPlease join us as we continue in our Advent Series about Angels and Songs! Listen on Facebook live\, watch on YouTube\, or worship in-person in our spacious\, comfortable auditorium!\n\n
URL:https://frcfremont.org/church/event/worship-message-advent-series-week-two-peace/
LOCATION:FRC\, 348 East Main St.\, Fremont\, MI\, 49412
CATEGORIES:Community,Fellowship
ATTACH;FMTTYPE=image/png:https://frcfremont.org/church/wp-content/uploads/2024/11/Angels-and-Songs-Long.png
END:VEVENT
BEGIN:VEVENT
DTSTART;TZID=America/New_York:20241208T180000
DTEND;TZID=America/New_York:20241208T200000
DTSTAMP:20260421T214938
CREATED:20240828T182140Z
LAST-MODIFIED:20250117T181508Z
UID:31739-1733680800-1733688000@frcfremont.org
SUMMARY:RISE Youth Group
DESCRIPTION:If you do not currently attend our youth group\, we would love for you to come and check it out and give us a chance to get to know you.  What can our visitors expect?   Typically\, we start off with some worship music\, then we dig into God’s Word\, and we will end the night with some fellowship and/or a group game.  In addition\, we hope that we will make you feel welcome and we hope that you will feel like you belong-because you do. \nAll students grade 8-12 are invited to our Sunday meetings as well as other events.  It doesn’t matter what school you go to\, where you are at in your walk\, or even if you are a Christian or not.  We would love for you to come just as you are. \nIf you have any questions about Rise\, please contact one of our Youth Leaders. \n
URL:https://frcfremont.org/church/event/rise-youth-group-12/2024-12-08/
LOCATION:FRC\, 348 East Main St.\, Fremont\, MI\, 49412
CATEGORIES:Community,Fellowship,Rise
ATTACH;FMTTYPE=image/png:https://frcfremont.org/church/wp-content/uploads/2016/03/riselogowide.png
END:VEVENT
END:VCALENDAR