BEGIN:VCALENDAR
VERSION:2.0
PRODID:-//FRC Church - ECPv5.1.4//NONSGML v1.0//EN
CALSCALE:GREGORIAN
METHOD:PUBLISH
X-WR-CALNAME:FRC Church
X-ORIGINAL-URL:https://frcfremont.org/church
X-WR-CALDESC:Events for FRC Church
BEGIN:VTIMEZONE
TZID:America/New_York
BEGIN:DAYLIGHT
TZOFFSETFROM:-0500
TZOFFSETTO:-0400
TZNAME:EDT
DTSTART:20240310T070000
END:DAYLIGHT
BEGIN:STANDARD
TZOFFSETFROM:-0400
TZOFFSETTO:-0500
TZNAME:EST
DTSTART:20241103T060000
END:STANDARD
END:VTIMEZONE
BEGIN:VEVENT
DTSTART;TZID=America/New_York:20241204T163000
DTEND;TZID=America/New_York:20241204T181500
DTSTAMP:20260421T231502
CREATED:20240828T181649Z
LAST-MODIFIED:20250402T172524Z
UID:31707-1733329800-1733336100@frcfremont.org
SUMMARY:Club 57 Youth Group
DESCRIPTION:Club 57 (Grades 5-7) meets each Wednesday from 4:30-6:15 PM at the church during the school year.  Each meeting is a time of fellowship\, God’s Word\, and fun!  It is our hope to meet students right where they are at for Christ\, and to help each student grow in his or her faith.  All students in grades 5-7 are encouraged to come. \nOutside of our Wednesday meetings\, we try to do plenty of fun events together\, as well as stay active in the community. It doesn’t matter what school you go to\, where you are at in your walk\, or even if you are a Christian or not.  We would love for you to come just as you are! \nDinner will be served for students who attend Gems & Cadets afterwards. This program follows the Fremont Public Schools calendar and is closed when school is closed. \nFor more information on Club 57\, please contact one of the Youth Leaders. \n
URL:https://frcfremont.org/church/event/club-57-youth-group-5/2024-12-04/
LOCATION:FRC\, 348 East Main St.\, Fremont\, MI\, 49412
CATEGORIES:Club 57,Community,Fellowship
ATTACH;FMTTYPE=image/png:https://frcfremont.org/church/wp-content/uploads/2024/08/club57.png
END:VEVENT
BEGIN:VEVENT
DTSTART;TZID=America/New_York:20241204T180000
DTEND;TZID=America/New_York:20241204T200000
DTSTAMP:20260421T231502
CREATED:20240911T175459Z
LAST-MODIFIED:20240911T175459Z
UID:31797-1733335200-1733342400@frcfremont.org
SUMMARY:Free Parenting Workshop
DESCRIPTION:Would you like to talk in a way that your kids don’t tune you out? How about help your kids to overcome the negative influence of media and the internet? If so\, please attend our free Parenting Workshop starting on October 9! Hosted by Insight Pregnancy Services\, this workshop will feature resources from Dr. Kevin Leman’s “Value Packed Parenting” and will be held here at FRC on Wednesday evenings from 6:30-8:00 pm. Childcare for children of kindergarten age and younger is provided. \n
URL:https://frcfremont.org/church/event/free-parenting-workshop/2024-12-04/
LOCATION:FRC\, 348 East Main St.\, Fremont\, MI\, 49412
CATEGORIES:Community,Fellowship
ATTACH;FMTTYPE=image/png:https://frcfremont.org/church/wp-content/uploads/2024/09/Free-Parenting-Workshop-3.png
END:VEVENT
BEGIN:VEVENT
DTSTART;TZID=America/New_York:20241204T183000
DTEND;TZID=America/New_York:20241204T200000
DTSTAMP:20260421T231502
CREATED:20240828T181301Z
LAST-MODIFIED:20250402T172432Z
UID:31678-1733337000-1733342400@frcfremont.org
SUMMARY:GEMS & Cadets Youth Programs
DESCRIPTION:Youth programs for kids in 1st – 8th grades that meet Wednesday evenings from 6:30 – 8:00 pm\, October through April. All children are welcome\, whether you attend this church or not! Both programs follow the Fremont public school calendar and are closed when the schools are closed. \nFor information about GEMS: \nhttp://frcfremont.org/church/about/ministries/gems-2/ \nFor information about Cadets: \nhttp://frcfremont.org/church/about/ministries/cadets-2/ \n
URL:https://frcfremont.org/church/event/gems-cadets-youth-programs-2/2024-12-04/
LOCATION:FRC\, 348 East Main St.\, Fremont\, MI\, 49412
CATEGORIES:Cadets,Community,Fellowship,GEMS
ATTACH;FMTTYPE=image/png:https://frcfremont.org/church/wp-content/uploads/2023/08/Untitled-design-5.png
END:VEVENT
END:VCALENDAR