BEGIN:VCALENDAR
VERSION:2.0
PRODID:-//FRC Church - ECPv5.1.4//NONSGML v1.0//EN
CALSCALE:GREGORIAN
METHOD:PUBLISH
X-WR-CALNAME:FRC Church
X-ORIGINAL-URL:https://frcfremont.org/church
X-WR-CALDESC:Events for FRC Church
BEGIN:VTIMEZONE
TZID:America/New_York
BEGIN:DAYLIGHT
TZOFFSETFROM:-0500
TZOFFSETTO:-0400
TZNAME:EDT
DTSTART:20240310T070000
END:DAYLIGHT
BEGIN:STANDARD
TZOFFSETFROM:-0400
TZOFFSETTO:-0500
TZNAME:EST
DTSTART:20241103T060000
END:STANDARD
END:VTIMEZONE
BEGIN:VEVENT
DTSTART;TZID=America/New_York:20241027T100000
DTEND;TZID=America/New_York:20241027T110000
DTSTAMP:20260422T021935
CREATED:20231130T190520Z
LAST-MODIFIED:20241127T144445Z
UID:31006-1730023200-1730026800@frcfremont.org
SUMMARY:Worship @ 10 am
DESCRIPTION:A comfortable\, friendly place with everyday people connecting with each other and building a relationship with Jesus Christ. No matter what or where your walk in life may be\, FRC is a place for anyone to connect with a uplifting\, positive community of friends seeking the next step in their spiritual growth. \n
URL:https://frcfremont.org/church/event/worship-10-am-4/2024-10-27/
LOCATION:FRC\, 348 East Main St.\, Fremont\, MI\, 49412
CATEGORIES:Community,Fellowship
ATTACH;FMTTYPE=image/jpeg:https://frcfremont.org/church/wp-content/uploads/2021/02/images-4.jpg
END:VEVENT
BEGIN:VEVENT
DTSTART;TZID=America/New_York:20241027T100000
DTEND;TZID=America/New_York:20241027T110000
DTSTAMP:20260422T021935
CREATED:20241025T183016Z
LAST-MODIFIED:20241025T183016Z
UID:31947-1730023200-1730026800@frcfremont.org
SUMMARY:Worship Message: Judging: Ourselves & Others
DESCRIPTION:\nJudging. Everyday we make thousands of judgments! We decide what to eat\, what to wear\, and how to best use our day. Then we head out into the real world or visit the world of social media and begin to make all kinds of judgments about the people we encounter. Sometimes we keep these judgments to ourselves; other times\, we can’t help but tell people what we think. If we are people of faith\, we can be tempted to proclaim judgments against others on the basis of our faith. But everything we do should be to bring glory to God and His Kingdom. So how do we keep these things in balance? The Apostle Paul has a teaching that will help us navigate these waters in a time when our culture seems so polarized between godly and worldly things.\n\n\n\nPlease join us today for a thought-provoking message from a guest pastor! Listen on Facebook live\, watch on YouTube\, or worship in-person in our spacious\, comfortable auditorium!\n\n
URL:https://frcfremont.org/church/event/worship-message-judging-ourselves-others/
LOCATION:FRC\, 348 East Main St.\, Fremont\, MI\, 49412
CATEGORIES:Community,Fellowship
END:VEVENT
BEGIN:VEVENT
DTSTART;TZID=America/New_York:20241027T180000
DTEND;TZID=America/New_York:20241027T200000
DTSTAMP:20260422T021935
CREATED:20240828T182140Z
LAST-MODIFIED:20250117T181508Z
UID:31734-1730052000-1730059200@frcfremont.org
SUMMARY:RISE Youth Group
DESCRIPTION:If you do not currently attend our youth group\, we would love for you to come and check it out and give us a chance to get to know you.  What can our visitors expect?   Typically\, we start off with some worship music\, then we dig into God’s Word\, and we will end the night with some fellowship and/or a group game.  In addition\, we hope that we will make you feel welcome and we hope that you will feel like you belong-because you do. \nAll students grade 8-12 are invited to our Sunday meetings as well as other events.  It doesn’t matter what school you go to\, where you are at in your walk\, or even if you are a Christian or not.  We would love for you to come just as you are. \nIf you have any questions about Rise\, please contact one of our Youth Leaders. \n
URL:https://frcfremont.org/church/event/rise-youth-group-12/2024-10-27/
LOCATION:FRC\, 348 East Main St.\, Fremont\, MI\, 49412
CATEGORIES:Community,Fellowship,Rise
ATTACH;FMTTYPE=image/png:https://frcfremont.org/church/wp-content/uploads/2016/03/riselogowide.png
END:VEVENT
END:VCALENDAR