BEGIN:VCALENDAR
VERSION:2.0
PRODID:-//FRC Church - ECPv5.1.4//NONSGML v1.0//EN
CALSCALE:GREGORIAN
METHOD:PUBLISH
X-WR-CALNAME:FRC Church
X-ORIGINAL-URL:https://frcfremont.org/church
X-WR-CALDESC:Events for FRC Church
BEGIN:VTIMEZONE
TZID:America/New_York
BEGIN:DAYLIGHT
TZOFFSETFROM:-0500
TZOFFSETTO:-0400
TZNAME:EDT
DTSTART:20240310T070000
END:DAYLIGHT
BEGIN:STANDARD
TZOFFSETFROM:-0400
TZOFFSETTO:-0500
TZNAME:EST
DTSTART:20241103T060000
END:STANDARD
END:VTIMEZONE
BEGIN:VEVENT
DTSTART;TZID=America/New_York:20240929T100000
DTEND;TZID=America/New_York:20240929T110000
DTSTAMP:20260422T105526
CREATED:20240927T165014Z
LAST-MODIFIED:20240927T165014Z
UID:31831-1727604000-1727607600@frcfremont.org
SUMMARY:Worship Message: Our Souls Talking to God
DESCRIPTION:\nToday\, we consider what it means to worship God with songs. Why do we use songs in worship? Wouldn’t it be faster to simply read the words? Why does music get added to the words? And what’s the appropriate bodily motions as we worship? Does the Bible even address the topic of singing in worship to God? Is it ok to clap\, raise hands\, cry\, smile\, sway\, tap one’s toe\, or merely sing without bodily expressions? And what do we expect out of the music as we come to worship God? These are very important questions that will be at the center of how FRC attendees want “their worship” to be. However\, the single\, most important question is\, “What does God expect from our singing?” If He is the audience for our songs\, what do we bring to Him?\n\n\n\nPlease join us today for an inspiring and informative message about worshipping the Lord. Listen on Facebook live\, watch on YouTube\, or worship in-person in our spacious\, comfortable auditorium!\n\n
URL:https://frcfremont.org/church/event/worship-message-our-souls-talking-to-god/
LOCATION:FRC\, 348 East Main St.\, Fremont\, MI\, 49412
CATEGORIES:Community,Fellowship
ATTACH;FMTTYPE=image/png:https://frcfremont.org/church/wp-content/uploads/2024/09/Our-Souls-Talking-to-God.png
END:VEVENT
BEGIN:VEVENT
DTSTART;TZID=America/New_York:20240929T180000
DTEND;TZID=America/New_York:20240929T200000
DTSTAMP:20260422T105526
CREATED:20240828T182140Z
LAST-MODIFIED:20250117T181507Z
UID:31730-1727632800-1727640000@frcfremont.org
SUMMARY:RISE Youth Group
DESCRIPTION:If you do not currently attend our youth group\, we would love for you to come and check it out and give us a chance to get to know you.  What can our visitors expect?   Typically\, we start off with some worship music\, then we dig into God’s Word\, and we will end the night with some fellowship and/or a group game.  In addition\, we hope that we will make you feel welcome and we hope that you will feel like you belong-because you do. \nAll students grade 8-12 are invited to our Sunday meetings as well as other events.  It doesn’t matter what school you go to\, where you are at in your walk\, or even if you are a Christian or not.  We would love for you to come just as you are. \nIf you have any questions about Rise\, please contact one of our Youth Leaders. \n
URL:https://frcfremont.org/church/event/rise-youth-group-12/2024-09-29/
LOCATION:FRC\, 348 East Main St.\, Fremont\, MI\, 49412
CATEGORIES:Community,Fellowship,Rise
ATTACH;FMTTYPE=image/png:https://frcfremont.org/church/wp-content/uploads/2016/03/riselogowide.png
END:VEVENT
END:VCALENDAR