BEGIN:VCALENDAR
VERSION:2.0
PRODID:-//FRC Church - ECPv5.1.4//NONSGML v1.0//EN
CALSCALE:GREGORIAN
METHOD:PUBLISH
X-WR-CALNAME:FRC Church
X-ORIGINAL-URL:https://frcfremont.org/church
X-WR-CALDESC:Events for FRC Church
BEGIN:VTIMEZONE
TZID:America/New_York
BEGIN:DAYLIGHT
TZOFFSETFROM:-0500
TZOFFSETTO:-0400
TZNAME:EDT
DTSTART:20240310T070000
END:DAYLIGHT
BEGIN:STANDARD
TZOFFSETFROM:-0400
TZOFFSETTO:-0500
TZNAME:EST
DTSTART:20241103T060000
END:STANDARD
END:VTIMEZONE
BEGIN:VEVENT
DTSTART;TZID=America/New_York:20240519T100000
DTEND;TZID=America/New_York:20240519T110000
DTSTAMP:20260423T034135
CREATED:20240417T183610Z
LAST-MODIFIED:20240417T183610Z
UID:31284-1716112800-1716116400@frcfremont.org
SUMMARY:Graduation Sunday: May 19 @ 10 am
DESCRIPTION:Please join us in celebrating our graduates during worship service today at 10 am! \nCongratulations to all graduates on this major milestone in your life! Your hard work has paid off! \n
URL:https://frcfremont.org/church/event/graduation-sunday-may-19-10-am/
LOCATION:FRC\, 348 East Main St.\, Fremont\, MI\, 49412
CATEGORIES:Community,Fellowship
ATTACH;FMTTYPE=image/png:https://frcfremont.org/church/wp-content/uploads/2024/04/Graduation-Sundy-Website.png
END:VEVENT
BEGIN:VEVENT
DTSTART;TZID=America/New_York:20240519T170000
DTEND;TZID=America/New_York:20240519T190000
DTSTAMP:20260423T034135
CREATED:20240417T134627Z
LAST-MODIFIED:20240529T155913Z
UID:31260-1716138000-1716145200@frcfremont.org
SUMMARY:Men's Bi-Weekly Bible Study - 5 pm
DESCRIPTION:The Men’s Bible Study meets at 5 pm bi-weekly on Sundays. They are working through the Gospel of Mark. All men are welcome! Invite your neighbors and friends! \n
URL:https://frcfremont.org/church/event/mens-bi-weekly-bible-study-5-pm/2024-05-19/
LOCATION:FRC\, 348 East Main St.\, Fremont\, MI\, 49412
CATEGORIES:Community,Fellowship
ATTACH;FMTTYPE=image/png:https://frcfremont.org/church/wp-content/uploads/2023/10/MENS-BIBLE-STUDY-graphic-2023.png
END:VEVENT
END:VCALENDAR