BEGIN:VCALENDAR
VERSION:2.0
PRODID:-//FRC Church - ECPv5.1.4//NONSGML v1.0//EN
CALSCALE:GREGORIAN
METHOD:PUBLISH
X-WR-CALNAME:FRC Church
X-ORIGINAL-URL:https://frcfremont.org/church
X-WR-CALDESC:Events for FRC Church
BEGIN:VTIMEZONE
TZID:America/New_York
BEGIN:DAYLIGHT
TZOFFSETFROM:-0500
TZOFFSETTO:-0400
TZNAME:EDT
DTSTART:20220313T070000
END:DAYLIGHT
BEGIN:STANDARD
TZOFFSETFROM:-0400
TZOFFSETTO:-0500
TZNAME:EST
DTSTART:20221106T060000
END:STANDARD
END:VTIMEZONE
BEGIN:VEVENT
DTSTART;TZID=America/New_York:20220102T100000
DTEND;TZID=America/New_York:20220102T110000
DTSTAMP:20260426T015903
CREATED:20211230T175500Z
LAST-MODIFIED:20211230T175500Z
UID:27691-1641117600-1641121200@frcfremont.org
SUMMARY:Worship Message - Priorities
DESCRIPTION:It’s the New Year! We have made plans and set our resolutions. Did you choose well? Today’s message will help us with selecting priorities for 2022. \nPlease join us today for for a timely and thought-provoking New Year’s message! Listen on Facebook live\, watch on YouTube\, cruise into our drive-in venue\, or worship in-person in our spacious\, comfortable auditorium! \n
URL:https://frcfremont.org/church/event/worship-message-priorities/
LOCATION:FRC\, 348 East Main St.\, Fremont\, MI\, 49412
CATEGORIES:Community,Fellowship
ATTACH;FMTTYPE=image/png:https://frcfremont.org/church/wp-content/uploads/2021/12/1-2-2022.png
END:VEVENT
BEGIN:VEVENT
DTSTART;TZID=America/New_York:20220102T113000
DTEND;TZID=America/New_York:20220102T123000
DTSTAMP:20260426T015903
CREATED:20211221T190111Z
LAST-MODIFIED:20221221T193215Z
UID:27412-1641123000-1641126600@frcfremont.org
SUMMARY:Commission on Aging Meals
DESCRIPTION:Commission on Aging meals are held in the Fellowship Room downstairs. Meal service starts at 11:30 A.M. Suggested donation is $3.00 for 60 and over\, $5.00 for under 60. Everyone is welcome! If you need transportation\, Commission on Aging is able to pick you up. Let them know that you need a ride by calling 689-2100. \nEach Wednesday a time of fellowship is offered with BINGO at 12:30 P.M. There is also monthly special music days\, birthday lunch celebrations\, and other fun events. Check The Silver Tsunami or call Commission on Aging at 689-2100 for more details! \n
URL:https://frcfremont.org/church/event/commission-on-aging-meals-2/2022-01-02/
LOCATION:FRC\, 348 East Main St.\, Fremont\, MI\, 49412
CATEGORIES:Community,Fellowship
ATTACH;FMTTYPE=image/png:https://frcfremont.org/church/wp-content/uploads/2017/09/24796378_1392401484193042_2419457370689636396_n.png
END:VEVENT
END:VCALENDAR