BEGIN:VCALENDAR
VERSION:2.0
PRODID:-//FRC Church - ECPv5.1.4//NONSGML v1.0//EN
CALSCALE:GREGORIAN
METHOD:PUBLISH
X-WR-CALNAME:FRC Church
X-ORIGINAL-URL:https://frcfremont.org/church
X-WR-CALDESC:Events for FRC Church
BEGIN:VTIMEZONE
TZID:America/New_York
BEGIN:DAYLIGHT
TZOFFSETFROM:-0500
TZOFFSETTO:-0400
TZNAME:EDT
DTSTART:20240310T070000
END:DAYLIGHT
BEGIN:STANDARD
TZOFFSETFROM:-0400
TZOFFSETTO:-0500
TZNAME:EST
DTSTART:20241103T060000
END:STANDARD
END:VTIMEZONE
BEGIN:VEVENT
DTSTART;TZID=America/New_York:20240107T100000
DTEND;TZID=America/New_York:20240107T110000
DTSTAMP:20260423T115059
CREATED:20240105T191915Z
LAST-MODIFIED:20240105T191915Z
UID:31067-1704621600-1704625200@frcfremont.org
SUMMARY:Worship Message - The Future Church
DESCRIPTION:\nAs we start a new year\, consider how the Gospel motivates and equips us to be disciples who make disciples. We must be strong and steadfast in our own personal faith\, and we must make time to diligently study our Bibles. We also must make it a priority in our own lives to obey God’s word. In this way\, we can be equipped to pass the torch of faith to the next generation of faithful men and women who will come after us and be the future church.\n\n\n\nPlease join us today for a powerful message from a guest pastor! Listen on Facebook live\, watch on YouTube\, or worship in-person in our spacious\, comfortable auditorium!\n\n
URL:https://frcfremont.org/church/event/worship-message-the-future-church/
LOCATION:FRC\, 348 East Main St.\, Fremont\, MI\, 49412
CATEGORIES:Community,Fellowship
ATTACH;FMTTYPE=image/png:https://frcfremont.org/church/wp-content/uploads/2024/01/The-Future-Church-website.png
END:VEVENT
BEGIN:VEVENT
DTSTART;TZID=America/New_York:20240107T170000
DTEND;TZID=America/New_York:20240107T180000
DTSTAMP:20260423T115059
CREATED:20231220T163224Z
LAST-MODIFIED:20240111T152802Z
UID:30868-1704646800-1704650400@frcfremont.org
SUMMARY:Men's Bi-Weekly Bible Study
DESCRIPTION:The Men’s Bible Study meets at 5 pm bi-weekly on Sundays. They are working through the Gospel of Mark. All men are welcome! Invite your neighbors and friends! \n
URL:https://frcfremont.org/church/event/mens-bi-weekly-bible-study-2/
LOCATION:FRC\, 348 East Main St.\, Fremont\, MI\, 49412
CATEGORIES:Community,Fellowship
ATTACH;FMTTYPE=image/png:https://frcfremont.org/church/wp-content/uploads/2023/10/MENS-BIBLE-STUDY-graphic-2023.png
END:VEVENT
END:VCALENDAR