BEGIN:VCALENDAR
VERSION:2.0
PRODID:-//FRC Church - ECPv5.1.4//NONSGML v1.0//EN
CALSCALE:GREGORIAN
METHOD:PUBLISH
X-WR-CALNAME:FRC Church
X-ORIGINAL-URL:https://frcfremont.org/church
X-WR-CALDESC:Events for FRC Church
BEGIN:VTIMEZONE
TZID:America/New_York
BEGIN:DAYLIGHT
TZOFFSETFROM:-0500
TZOFFSETTO:-0400
TZNAME:EDT
DTSTART:20220313T070000
END:DAYLIGHT
BEGIN:STANDARD
TZOFFSETFROM:-0400
TZOFFSETTO:-0500
TZNAME:EST
DTSTART:20221106T060000
END:STANDARD
END:VTIMEZONE
BEGIN:VEVENT
DTSTART;TZID=America/New_York:20220814T100000
DTEND;TZID=America/New_York:20220814T110000
DTSTAMP:20260425T113425
CREATED:20220811T175003Z
LAST-MODIFIED:20220811T175003Z
UID:28816-1660471200-1660474800@frcfremont.org
SUMMARY:Worship Message -
DESCRIPTION:Today we go to Jesus’ place for dinner. He has instituted his meal to communicate to us His real presence. Let’s dig into what this means that he’s “instituted” a meal to communicate to us that He’s with us. \nJoin us today as we gather for holy communion! Listen on Facebook live\, watch on YouTube\, or worship in-person in our spacious\, comfortable auditorium! \n
URL:https://frcfremont.org/church/event/worship-message/
LOCATION:FRC\, 348 East Main St.\, Fremont\, MI\, 49412
CATEGORIES:Community,Fellowship
ATTACH;FMTTYPE=image/jpeg:https://frcfremont.org/church/wp-content/uploads/2022/08/95ba7c2d438a17a1bc50e04973288e7f.jpg
END:VEVENT
BEGIN:VEVENT
DTSTART;TZID=America/New_York:20220814T180000
DTEND;TZID=America/New_York:20220814T213000
DTSTAMP:20260425T113425
CREATED:20220615T150939Z
LAST-MODIFIED:20220615T151019Z
UID:28540-1660500000-1660512600@frcfremont.org
SUMMARY:RISE Youth Group - Lake Michigan Sunset Trip
DESCRIPTION:Come join our annual Lake Michigan Sunset Trip! We will depart early evening and return by 9:30 pm. \n
URL:https://frcfremont.org/church/event/rise-youth-group-lake-michigan-sunset-trip/
LOCATION:FRC\, 348 East Main St.\, Fremont\, MI\, 49412
CATEGORIES:Rise
ATTACH;FMTTYPE=image/png:https://frcfremont.org/church/wp-content/uploads/2021/06/download2.png
END:VEVENT
END:VCALENDAR