BEGIN:VCALENDAR
VERSION:2.0
PRODID:-//FRC Church - ECPv5.1.4//NONSGML v1.0//EN
CALSCALE:GREGORIAN
METHOD:PUBLISH
X-WR-CALNAME:FRC Church
X-ORIGINAL-URL:https://frcfremont.org/church
X-WR-CALDESC:Events for FRC Church
BEGIN:VTIMEZONE
TZID:America/New_York
BEGIN:DAYLIGHT
TZOFFSETFROM:-0500
TZOFFSETTO:-0400
TZNAME:EDT
DTSTART:20250309T070000
END:DAYLIGHT
BEGIN:STANDARD
TZOFFSETFROM:-0400
TZOFFSETTO:-0500
TZNAME:EST
DTSTART:20251102T060000
END:STANDARD
END:VTIMEZONE
BEGIN:VEVENT
DTSTART;TZID=America/New_York:20251228T100000
DTEND;TZID=America/New_York:20251228T110000
DTSTAMP:20260421T202706
CREATED:20251226T192459Z
LAST-MODIFIED:20251226T192459Z
UID:33291-1766916000-1766919600@frcfremont.org
SUMMARY:Worship Message - Whom Shall I Fear?
DESCRIPTION:\nThere are so many things to fear in this world! We can even be afraid of fear itself\, as one of our popular presidents once said. Fearing a loving God can be a hard thing to wrap our heads around. But God truly loves those whom He draws to Himself\, and true love means teaching His children to fear the things that seek to separate us from His love. Today\, we take a look at what it means to fear the right things – as a parent that loves His children will always seek to do.\n\n\n\nPlease join us today for a timely and relevant message! Listen on Facebook live\, watch on YouTube\, or worship in-person in our spacious\, comfortable auditorium!\n\n
URL:https://frcfremont.org/church/event/worship-message-whom-shall-i-fear/
LOCATION:FRC\, 348 East Main St.\, Fremont\, MI\, 49412
CATEGORIES:Community,Fellowship
ATTACH;FMTTYPE=image/png:https://frcfremont.org/church/wp-content/uploads/2025/12/whomeshallifear.png
END:VEVENT
END:VCALENDAR