BEGIN:VCALENDAR
VERSION:2.0
PRODID:-//FRC Church - ECPv5.1.4//NONSGML v1.0//EN
CALSCALE:GREGORIAN
METHOD:PUBLISH
X-WR-CALNAME:FRC Church
X-ORIGINAL-URL:https://frcfremont.org/church
X-WR-CALDESC:Events for FRC Church
BEGIN:VTIMEZONE
TZID:America/New_York
BEGIN:DAYLIGHT
TZOFFSETFROM:-0500
TZOFFSETTO:-0400
TZNAME:EDT
DTSTART:20250309T070000
END:DAYLIGHT
BEGIN:STANDARD
TZOFFSETFROM:-0400
TZOFFSETTO:-0500
TZNAME:EST
DTSTART:20251102T060000
END:STANDARD
END:VTIMEZONE
BEGIN:VEVENT
DTSTART;TZID=America/New_York:20251123T100000
DTEND;TZID=America/New_York:20251123T110000
DTSTAMP:20260421T081857
CREATED:20251121T164010Z
LAST-MODIFIED:20251121T164010Z
UID:33071-1763892000-1763895600@frcfremont.org
SUMMARY:Worship Message - Reasonable Worship
DESCRIPTION:The gospel doesn’t just give us future hope that one day we’ll go to heaven. Our lives are transformed by the gospel right now as we find our purpose in worshiping the Lord. This is what we were made for! We’ll explore these ideas together today as we look at Romans 12:1. \nPlease join us today for an inspirational and timely message! Listen on Facebook live\, watch on YouTube\, or worship in-person in our spacious\, comfortable auditorium! \n  \n
URL:https://frcfremont.org/church/event/worship-message-reasonable-worship/
LOCATION:FRC\, 348 East Main St.\, Fremont\, MI\, 49412
CATEGORIES:Community,Fellowship
ATTACH;FMTTYPE=image/png:https://frcfremont.org/church/wp-content/uploads/2025/11/Reasonable-Facebook-Cover.png
END:VEVENT
END:VCALENDAR