BEGIN:VCALENDAR
VERSION:2.0
PRODID:-//FRC Church - ECPv5.1.4//NONSGML v1.0//EN
CALSCALE:GREGORIAN
METHOD:PUBLISH
X-WR-CALNAME:FRC Church
X-ORIGINAL-URL:http://frcfremont.org/church
X-WR-CALDESC:Events for FRC Church
BEGIN:VTIMEZONE
TZID:America/New_York
BEGIN:DAYLIGHT
TZOFFSETFROM:-0500
TZOFFSETTO:-0400
TZNAME:EDT
DTSTART:20210314T070000
END:DAYLIGHT
BEGIN:STANDARD
TZOFFSETFROM:-0400
TZOFFSETTO:-0500
TZNAME:EST
DTSTART:20211107T060000
END:STANDARD
END:VTIMEZONE
BEGIN:VEVENT
DTSTART;TZID=America/New_York:20210103T100000
DTEND;TZID=America/New_York:20210103T110000
DTSTAMP:20260419T173635
CREATED:20201228T170931Z
LAST-MODIFIED:20201228T170931Z
UID:22541-1609668000-1609671600@frcfremont.org
SUMMARY:Worship Series: Study on Angels - Week #6: Angel Protectors
DESCRIPTION:Today\, as we start the new year\, we conclude our angels series with a discussion of angels as protectors. Angels guard and protect believers in Jesus Christ. Let’s explore the power and wonder of this protection\, and hear a story or two out of FRC about angel protection! \nWe are off to new ground starting today!  At the heart of a life changing relationship with God is the decision to meet weekly with His people at church to worship\, fellowship\, and serve. Will you make a weekly commitment in 2021 to gather here and worship? \nPlease join us for the message today\, as we learn more about angels during the final week of our study of angels! \n
URL:http://frcfremont.org/church/event/worship-series-study-on-angels-week-6-angel-protectors/
LOCATION:FRC\, 348 East Main St.\, Fremont\, MI\, 49412
CATEGORIES:Community,Fellowship
ATTACH;FMTTYPE=image/png:http://frcfremont.org/church/wp-content/uploads/2020/11/11-29-2020.png
END:VEVENT
END:VCALENDAR