BEGIN:VCALENDAR
VERSION:2.0
PRODID:-//FRC Church - ECPv5.1.4//NONSGML v1.0//EN
CALSCALE:GREGORIAN
METHOD:PUBLISH
X-WR-CALNAME:FRC Church
X-ORIGINAL-URL:http://frcfremont.org/church
X-WR-CALDESC:Events for FRC Church
BEGIN:VTIMEZONE
TZID:America/New_York
BEGIN:DAYLIGHT
TZOFFSETFROM:-0500
TZOFFSETTO:-0400
TZNAME:EDT
DTSTART:20200308T070000
END:DAYLIGHT
BEGIN:STANDARD
TZOFFSETFROM:-0400
TZOFFSETTO:-0500
TZNAME:EST
DTSTART:20201101T060000
END:STANDARD
END:VTIMEZONE
BEGIN:VEVENT
DTSTART;TZID=America/New_York:20201220T100000
DTEND;TZID=America/New_York:20201220T110000
DTSTAMP:20260419T155607
CREATED:20201218T171651Z
LAST-MODIFIED:20201218T171651Z
UID:22513-1608458400-1608462000@frcfremont.org
SUMMARY:Worship Series: Study on Angels - Week #4: Heaven's Praise Team
DESCRIPTION:Today\, we continue with the “Angels” series as we seek to answer common questions about angels. Do angels have halos? Do angels sing? What does it mean that angels praise God? What are the implications of answers to these questions for regular ol’ Christian humans on Christmas 2020? If you are wondering\, we invite you to listen to today’s message. Then\, respond with praise! \nPlease join us for the message today\, as we learn more about angels during the 4th & final week of Advent! \n
URL:http://frcfremont.org/church/event/worship-series-study-on-angels-week-4-heavens-praise-team/
LOCATION:FRC\, 348 East Main St.\, Fremont\, MI\, 49412
CATEGORIES:Community,Fellowship
ATTACH;FMTTYPE=image/png:http://frcfremont.org/church/wp-content/uploads/2020/11/11-29-2020.png
END:VEVENT
END:VCALENDAR