BEGIN:VCALENDAR
VERSION:2.0
PRODID:-//FRC Church - ECPv5.1.4//NONSGML v1.0//EN
CALSCALE:GREGORIAN
METHOD:PUBLISH
X-WR-CALNAME:FRC Church
X-ORIGINAL-URL:http://frcfremont.org/church
X-WR-CALDESC:Events for FRC Church
BEGIN:VTIMEZONE
TZID:America/New_York
BEGIN:DAYLIGHT
TZOFFSETFROM:-0500
TZOFFSETTO:-0400
TZNAME:EDT
DTSTART:20210314T070000
END:DAYLIGHT
BEGIN:STANDARD
TZOFFSETFROM:-0400
TZOFFSETTO:-0500
TZNAME:EST
DTSTART:20211107T060000
END:STANDARD
END:VTIMEZONE
BEGIN:VEVENT
DTSTART;TZID=America/New_York:20210307T100000
DTEND;TZID=America/New_York:20210307T110000
DTSTAMP:20260422T101947
CREATED:20210305T171804Z
LAST-MODIFIED:20210305T171804Z
UID:25019-1615111200-1615114800@frcfremont.org
SUMMARY:Worship Message - Who We Were
DESCRIPTION:\nAs we approach Easter and continue with our worship series\, today we will hear a message entitled “Who We Were.” It’s the season of Lent\, so FRC joins the Christian church in considering the price that Jesus paid to cancel humanity’s greatest problem – Sin. Today\, we will consider who we were outside of Christ. Next Sunday\, we will learn of the amazing transformation that occurs when Christ redeems a life and makes the old new!\n\n\n\nPlease join us for the message today\, as we learn about the important season of Lent! Listen on Facebook live\, watch on YouTube\, cruise into our drive-in venue\, or worship in-person in our spacious\, socially-distanced auditorium! (Per governor’s executive orders\, congregants are strongly encouraged to wear face coverings during religious services.)\n\n
URL:http://frcfremont.org/church/event/worship-message-who-we-were/
LOCATION:FRC\, 348 East Main St.\, Fremont\, MI\, 49412
CATEGORIES:Community,Fellowship
END:VEVENT
END:VCALENDAR