BEGIN:VCALENDAR
VERSION:2.0
PRODID:-//FRC Church - ECPv5.1.4//NONSGML v1.0//EN
CALSCALE:GREGORIAN
METHOD:PUBLISH
X-WR-CALNAME:FRC Church
X-ORIGINAL-URL:http://frcfremont.org/church
X-WR-CALDESC:Events for FRC Church
BEGIN:VTIMEZONE
TZID:America/New_York
BEGIN:DAYLIGHT
TZOFFSETFROM:-0500
TZOFFSETTO:-0400
TZNAME:EDT
DTSTART:20220313T070000
END:DAYLIGHT
BEGIN:STANDARD
TZOFFSETFROM:-0400
TZOFFSETTO:-0500
TZNAME:EST
DTSTART:20221106T060000
END:STANDARD
END:VTIMEZONE
BEGIN:VEVENT
DTSTART;TZID=America/New_York:20221127T100000
DTEND;TZID=America/New_York:20221127T110000
DTSTAMP:20260420T010001
CREATED:20221123T170054Z
LAST-MODIFIED:20221123T170054Z
UID:29176-1669543200-1669546800@frcfremont.org
SUMMARY:Worship Message - Trusting the Bible: External Evidence
DESCRIPTION:Last week\, we considered the first piece of external evidence for the Bible’s reliability – the historical authenticity of the text. The Bible gives us historic figures\, time\, places\, and dates so that we see the Bible in the context of human history. This is unlike most religious holy books from the world’s religions. We also considered moral\, psychological\, and intellectual doubts and remedies. Today\, we consider what books compose the Bible and why. Indeed\, the Bible is worth trusting! It satisfies the intellect and is gentle for one’s soul. \nPlease join us for the message today as we discuss external evidence for the authenticity of the Bible! Listen on Facebook live\, watch on YouTube\, or worship in-person in our spacious\, comfortable auditorium! \n
URL:http://frcfremont.org/church/event/worship-message-trusting-the-bible-external-evidence/
LOCATION:FRC\, 348 East Main St.\, Fremont\, MI\, 49412
CATEGORIES:Community,Fellowship
END:VEVENT
END:VCALENDAR