BEGIN:VCALENDAR
VERSION:2.0
PRODID:-//FRC Church - ECPv5.1.4//NONSGML v1.0//EN
CALSCALE:GREGORIAN
METHOD:PUBLISH
X-WR-CALNAME:FRC Church
X-ORIGINAL-URL:http://frcfremont.org/church
X-WR-CALDESC:Events for FRC Church
BEGIN:VTIMEZONE
TZID:America/New_York
BEGIN:DAYLIGHT
TZOFFSETFROM:-0500
TZOFFSETTO:-0400
TZNAME:EDT
DTSTART:20220313T070000
END:DAYLIGHT
BEGIN:STANDARD
TZOFFSETFROM:-0400
TZOFFSETTO:-0500
TZNAME:EST
DTSTART:20221106T060000
END:STANDARD
END:VTIMEZONE
BEGIN:VEVENT
DTSTART;TZID=America/New_York:20220403T100000
DTEND;TZID=America/New_York:20220403T110000
DTSTAMP:20260420T164812
CREATED:20220401T160554Z
LAST-MODIFIED:20220401T160554Z
UID:28380-1648980000-1648983600@frcfremont.org
SUMMARY:Worship Message - The Wrath of God: Given Over
DESCRIPTION:God is so good. Sometimes His goodness is experiencing His restraint of the full effects of human sinfulness. This goodness is experienced by both believers and those who do not believe. It is a goodness not much thought about. After all\, how do you experience the goodness of a dam holding back a cascade of water from sending a tsunami of water flooding downstream destroying the communities below? The dam is good! We all agree. It’s restraining effects are important.  \nBut frankly\, we take it for granted. What happens when the dam breaks\, or God stops withholding His restraint on human sinfulness? This Sunday\, we find out when the wrath of God is unleashed and sin cascades. Tremble people of God! Realize that North America and Europe stand as witnesses to the full sexual confusion that come when God no longer restrains our most sordid longings.  \nPlease join us today\, as consider the effects of the wrath of God! Listen on Facebook live\, watch on YouTube\, cruise into our drive-in venue\, or worship in-person in our spacious\, comfortable auditorium! \n
URL:http://frcfremont.org/church/event/worship-message-the-wrath-of-god-given-over/
LOCATION:FRC\, 348 East Main St.\, Fremont\, MI\, 49412
CATEGORIES:Community,Fellowship
ATTACH;FMTTYPE=image/png:http://frcfremont.org/church/wp-content/uploads/2022/04/4-3-2022.png
END:VEVENT
END:VCALENDAR