BEGIN:VCALENDAR
VERSION:2.0
PRODID:-//FRC Church - ECPv5.1.4//NONSGML v1.0//EN
CALSCALE:GREGORIAN
METHOD:PUBLISH
X-WR-CALNAME:FRC Church
X-ORIGINAL-URL:http://frcfremont.org/church
X-WR-CALDESC:Events for FRC Church
BEGIN:VTIMEZONE
TZID:America/New_York
BEGIN:DAYLIGHT
TZOFFSETFROM:-0500
TZOFFSETTO:-0400
TZNAME:EDT
DTSTART:20210314T070000
END:DAYLIGHT
BEGIN:STANDARD
TZOFFSETFROM:-0400
TZOFFSETTO:-0500
TZNAME:EST
DTSTART:20211107T060000
END:STANDARD
END:VTIMEZONE
BEGIN:VEVENT
DTSTART;TZID=America/New_York:20210711T100000
DTEND;TZID=America/New_York:20210711T110000
DTSTAMP:20260421T171755
CREATED:20210709T163913Z
LAST-MODIFIED:20210709T163913Z
UID:26673-1625997600-1626001200@frcfremont.org
SUMMARY:Worship Message - The Holy Spirit\, Your Power Source
DESCRIPTION:\nToday we start a new mini-series about the Holy Spirit as our power source as Christians.\n\n\n\nThe Holy Spirit – a mysterious\, invisible power that Jesus spoke of in the book of John. What does the Holy Spirit do for us? What did Jesus teach us about the Holy Spirit? How can the Holy Spirit show us how to be more like Jesus?\n\n\n\nPlease join us for the message today as we learn the answers to these questions about the Holy Spirit\, and more! Listen on Facebook live\, watch on YouTube\, cruise into our drive-in venue\, or worship in-person in our spacious\, air-conditioned auditorium!\n\n
URL:http://frcfremont.org/church/event/worship-message-the-holy-spirit-your-power-source/
LOCATION:FRC\, 348 East Main St.\, Fremont\, MI\, 49412
CATEGORIES:Community,Fellowship
ATTACH;FMTTYPE=image/jpeg:http://frcfremont.org/church/wp-content/uploads/2021/07/fatherspromise-copy.jpg
END:VEVENT
END:VCALENDAR