BEGIN:VCALENDAR
VERSION:2.0
PRODID:-//FRC Church - ECPv5.1.4//NONSGML v1.0//EN
CALSCALE:GREGORIAN
METHOD:PUBLISH
X-WR-CALNAME:FRC Church
X-ORIGINAL-URL:http://frcfremont.org/church
X-WR-CALDESC:Events for FRC Church
BEGIN:VTIMEZONE
TZID:America/New_York
BEGIN:DAYLIGHT
TZOFFSETFROM:-0500
TZOFFSETTO:-0400
TZNAME:EDT
DTSTART:20210314T070000
END:DAYLIGHT
BEGIN:STANDARD
TZOFFSETFROM:-0400
TZOFFSETTO:-0500
TZNAME:EST
DTSTART:20211107T060000
END:STANDARD
END:VTIMEZONE
BEGIN:VEVENT
DTSTART;TZID=America/New_York:20210822T100000
DTEND;TZID=America/New_York:20210822T110000
DTSTAMP:20260421T185022
CREATED:20210820T190454Z
LAST-MODIFIED:20210820T190454Z
UID:26894-1629626400-1629630000@frcfremont.org
SUMMARY:Worship Message - The Gospel Preached to Contrasting Cities
DESCRIPTION:We travel with one more Bible person this summer for the next two Sundays. We go with Paul to Athens today\, and Corinth next Sunday. Athens is the home of the “intelligentsia.” Note how Paul frames the Gospel for the super smart. Witness his contextual contact points. Next Sunday\, we travel to a blue collar sailors’ town\, a Las Vegas of ancient days with its wayward sexual inclinations and party hardy atmosphere. Guess which town the Gospel takes root in\, and a new church begins? But to each\, Paul encapsulates the Gospel message so it reaches his audience whether Athens or Corinth. This also sets you up\, FRC friends\, to deliver invites to your friends and family for National Back to Church Sunday\, Sept. 12. \nPlease join us for the message today as we learn how Paul spread the Gospel message\, and how we can as well! Listen on Facebook live\, watch on YouTube\, cruise into our drive-in venue\, or worship in-person in our spacious\, air-conditioned auditorium! \n
URL:http://frcfremont.org/church/event/worship-message-the-gospel-preached-to-contrasting-cities/
LOCATION:FRC\, 348 East Main St.\, Fremont\, MI\, 49412
CATEGORIES:Community,Fellowship
ATTACH;FMTTYPE=image/jpeg:http://frcfremont.org/church/wp-content/uploads/2021/08/when-in-a-tailspin-christian-poetry-by-deborah-ann-free-to-use.jpg
END:VEVENT
END:VCALENDAR