BEGIN:VCALENDAR
VERSION:2.0
PRODID:-//FRC Church - ECPv5.1.4//NONSGML v1.0//EN
CALSCALE:GREGORIAN
METHOD:PUBLISH
X-WR-CALNAME:FRC Church
X-ORIGINAL-URL:http://frcfremont.org/church
X-WR-CALDESC:Events for FRC Church
BEGIN:VTIMEZONE
TZID:America/New_York
BEGIN:DAYLIGHT
TZOFFSETFROM:-0500
TZOFFSETTO:-0400
TZNAME:EDT
DTSTART:20220313T070000
END:DAYLIGHT
BEGIN:STANDARD
TZOFFSETFROM:-0400
TZOFFSETTO:-0500
TZNAME:EST
DTSTART:20221106T060000
END:STANDARD
END:VTIMEZONE
BEGIN:VEVENT
DTSTART;TZID=America/New_York:20220213T100000
DTEND;TZID=America/New_York:20220213T110000
DTSTAMP:20260420T193151
CREATED:20220210T194716Z
LAST-MODIFIED:20220210T194716Z
UID:28285-1644746400-1644750000@frcfremont.org
SUMMARY:Worship Message - The Eternal Heaven - Earth Restored
DESCRIPTION:This Sunday\, we jump into week two of our five-week series on heaven with a message entitled: “The Eternal Heaven – Earth Restored.”  We live in the 2nd era of Earth – the time period in between paradise and Earth restored/heaven. But we can sense paradise lost and the new that is to come. This week\, we will explore the eternal heaven\, which is paradise on Earth restored and upgraded. \nPlease join us this Sunday as we continue our study on heaven! Listen on Facebook live\, watch on YouTube\, cruise into our drive-in venue\, or worship in-person in our spacious\, comfortable auditorium! \n
URL:http://frcfremont.org/church/event/worship-message-the-eternal-heaven-earth-restored/
LOCATION:FRC\, 348 East Main St.\, Fremont\, MI\, 49412
CATEGORIES:Community,Fellowship
END:VEVENT
END:VCALENDAR