BEGIN:VCALENDAR
VERSION:2.0
PRODID:-//FRC Church - ECPv5.1.4//NONSGML v1.0//EN
CALSCALE:GREGORIAN
METHOD:PUBLISH
X-WR-CALNAME:FRC Church
X-ORIGINAL-URL:http://frcfremont.org/church
X-WR-CALDESC:Events for FRC Church
BEGIN:VTIMEZONE
TZID:America/New_York
BEGIN:DAYLIGHT
TZOFFSETFROM:-0500
TZOFFSETTO:-0400
TZNAME:EDT
DTSTART:20210314T070000
END:DAYLIGHT
BEGIN:STANDARD
TZOFFSETFROM:-0400
TZOFFSETTO:-0500
TZNAME:EST
DTSTART:20211107T060000
END:STANDARD
END:VTIMEZONE
BEGIN:VEVENT
DTSTART;TZID=America/New_York:20210321T100000
DTEND;TZID=America/New_York:20210321T110000
DTSTAMP:20260421T001137
CREATED:20210319T163340Z
LAST-MODIFIED:20210319T163340Z
UID:25052-1616320800-1616324400@frcfremont.org
SUMMARY:Worship Message - The Anatomy of Sin's Seduction
DESCRIPTION:Today\, we will have the amazing opportunity to witness a profession of faith as one of our young people takes a public stand for Jesus Christ. Be sure to join us on this special occasion for an exciting celebration! \nIn last week’s message\, we learned how we become new when we accept Christ and grow in relationship to Him. In today’s message\, we learn how sin entangles and drags us under. It’s the season of Lent.  We are learning to hate sin\, avoid its tentacles\, and receive grace and mercy through our Savior Jesus Christ. \nPlease join us for the message today\, as we learn more how to avoid the entanglement of sin! Listen on Facebook live\, watch on YouTube\, cruise into our drive-in venue\, or worship in-person in our spacious\, socially-distanced auditorium! (Per governor’s executive orders\, congregants are strongly encouraged to wear face coverings during religious services.) \n
URL:http://frcfremont.org/church/event/worship-message-the-anatomy-of-sins-seduction/
LOCATION:FRC\, 348 East Main St.\, Fremont\, MI\, 49412
CATEGORIES:Community,Fellowship
ATTACH;FMTTYPE=image/png:http://frcfremont.org/church/wp-content/uploads/2021/03/3-21-21.png
END:VEVENT
END:VCALENDAR