BEGIN:VCALENDAR
VERSION:2.0
PRODID:-//FRC Church - ECPv5.1.4//NONSGML v1.0//EN
CALSCALE:GREGORIAN
METHOD:PUBLISH
X-WR-CALNAME:FRC Church
X-ORIGINAL-URL:http://frcfremont.org/church
X-WR-CALDESC:Events for FRC Church
BEGIN:VTIMEZONE
TZID:America/New_York
BEGIN:DAYLIGHT
TZOFFSETFROM:-0500
TZOFFSETTO:-0400
TZNAME:EDT
DTSTART:20210314T070000
END:DAYLIGHT
BEGIN:STANDARD
TZOFFSETFROM:-0400
TZOFFSETTO:-0500
TZNAME:EST
DTSTART:20211107T060000
END:STANDARD
END:VTIMEZONE
BEGIN:VEVENT
DTSTART;TZID=America/New_York:20211010T100000
DTEND;TZID=America/New_York:20211010T110000
DTSTAMP:20260421T163622
CREATED:20211008T160219Z
LAST-MODIFIED:20211008T160219Z
UID:27156-1633860000-1633863600@frcfremont.org
SUMMARY:Worship Message - Singing on the Other Side
DESCRIPTION:\nIt’s time to get pumped for our Youth Praise Team! They will be leading praise and worship today and sharing their amazing talents with us! \n\n\n \n\n\nWe will also have a guest pastor who will share with us a message on the value of music\, singing\, and praising God with the power of our voices. \n\n\n \n\n\nPlease join us for the message today\, as we discuss and embrace the power of music! Listen on Facebook live\, watch on YouTube\, cruise into our drive-in venue\, or worship in-person in our spacious\, comfortable auditorium!\n\n
URL:http://frcfremont.org/church/event/worship-message-singing-on-the-other-side/
LOCATION:FRC\, 348 East Main St.\, Fremont\, MI\, 49412
CATEGORIES:Community,Fellowship
ATTACH;FMTTYPE=image/png:http://frcfremont.org/church/wp-content/uploads/2021/10/10-10-2021.png
END:VEVENT
END:VCALENDAR