BEGIN:VCALENDAR
VERSION:2.0
PRODID:-//FRC Church - ECPv5.1.4//NONSGML v1.0//EN
CALSCALE:GREGORIAN
METHOD:PUBLISH
X-WR-CALNAME:FRC Church
X-ORIGINAL-URL:http://frcfremont.org/church
X-WR-CALDESC:Events for FRC Church
BEGIN:VTIMEZONE
TZID:America/New_York
BEGIN:DAYLIGHT
TZOFFSETFROM:-0500
TZOFFSETTO:-0400
TZNAME:EDT
DTSTART:20210314T070000
END:DAYLIGHT
BEGIN:STANDARD
TZOFFSETFROM:-0400
TZOFFSETTO:-0500
TZNAME:EST
DTSTART:20211107T060000
END:STANDARD
END:VTIMEZONE
BEGIN:VEVENT
DTSTART;TZID=America/New_York:20210502T100000
DTEND;TZID=America/New_York:20210502T110000
DTSTAMP:20260421T031121
CREATED:20210430T175038Z
LAST-MODIFIED:20210430T175038Z
UID:25194-1619949600-1619953200@frcfremont.org
SUMMARY:Worship Message - Raising Rebels
DESCRIPTION:In this today’s message entitled “Raising Rebels\,” we visit the parable of the prodigal son. In this story\, we discover two very different kinds of rebels\, and the father’s heart for both. Raising our hell-raising rebels and our proud\, compliant rebels are two quite different tasks. Let’s go to the Word for help!\nPlease join us for the message today\, as we learn how to raise rebels by God’s instructions! Listen on Facebook live\, watch on YouTube\, cruise into our drive-in venue\, or worship in-person in our spacious\, socially-distanced auditorium! (Per governor’s executive orders\, congregants are strongly encouraged to wear face coverings during religious services.) \n
URL:http://frcfremont.org/church/event/worship-message-raising-rebels/
LOCATION:FRC\, 348 East Main St.\, Fremont\, MI\, 49412
CATEGORIES:Community,Fellowship
END:VEVENT
END:VCALENDAR