BEGIN:VCALENDAR
VERSION:2.0
PRODID:-//FRC Church - ECPv5.1.4//NONSGML v1.0//EN
CALSCALE:GREGORIAN
METHOD:PUBLISH
X-WR-CALNAME:FRC Church
X-ORIGINAL-URL:http://frcfremont.org/church
X-WR-CALDESC:Events for FRC Church
BEGIN:VTIMEZONE
TZID:America/New_York
BEGIN:DAYLIGHT
TZOFFSETFROM:-0500
TZOFFSETTO:-0400
TZNAME:EDT
DTSTART:20210314T070000
END:DAYLIGHT
BEGIN:STANDARD
TZOFFSETFROM:-0400
TZOFFSETTO:-0500
TZNAME:EST
DTSTART:20211107T060000
END:STANDARD
END:VTIMEZONE
BEGIN:VEVENT
DTSTART;TZID=America/New_York:20210418T100000
DTEND;TZID=America/New_York:20210418T110000
DTSTAMP:20260421T000342
CREATED:20210416T162438Z
LAST-MODIFIED:20210416T162438Z
UID:25138-1618740000-1618743600@frcfremont.org
SUMMARY:Worship Message - Raising Boys
DESCRIPTION:In today’s message entitled “Raising Boys to be Tender Warriors\,” we celebrate little boys\, and God’s directives to raise them up to be big\, strong\, tender\, Christ-following men.  Gender is a gift!  Being male is a gift! Let’s consider the parenting challenges presented by boyhood.  Next week\, GEMS Sunday\,  we will learn about the gift of little girls and raising them to be beautiful\, strong\, relational\, Christian women. \nPlease join us for the message today\, as we learn more about how to raise boys following God’s instructions! Listen on Facebook live\, watch on YouTube\, cruise into our drive-in venue\, or worship in-person in our spacious\, socially-distanced auditorium! (Per governor’s executive orders\, congregants are strongly encouraged to wear face coverings during religious services.) \n
URL:http://frcfremont.org/church/event/worship-message-raising-boys/
LOCATION:FRC\, 348 East Main St.\, Fremont\, MI\, 49412
CATEGORIES:Community,Fellowship
END:VEVENT
END:VCALENDAR