BEGIN:VCALENDAR
VERSION:2.0
PRODID:-//FRC Church - ECPv5.1.4//NONSGML v1.0//EN
CALSCALE:GREGORIAN
METHOD:PUBLISH
X-WR-CALNAME:FRC Church
X-ORIGINAL-URL:http://frcfremont.org/church
X-WR-CALDESC:Events for FRC Church
BEGIN:VTIMEZONE
TZID:America/New_York
BEGIN:DAYLIGHT
TZOFFSETFROM:-0500
TZOFFSETTO:-0400
TZNAME:EDT
DTSTART:20220313T070000
END:DAYLIGHT
BEGIN:STANDARD
TZOFFSETFROM:-0400
TZOFFSETTO:-0500
TZNAME:EST
DTSTART:20221106T060000
END:STANDARD
END:VTIMEZONE
BEGIN:VEVENT
DTSTART;TZID=America/New_York:20220417T100000
DTEND;TZID=America/New_York:20220417T110000
DTSTAMP:20260420T120638
CREATED:20220415T185602Z
LAST-MODIFIED:20220415T185602Z
UID:28418-1650189600-1650193200@frcfremont.org
SUMMARY:Worship Message - Rags to Riches\, An Easter Story
DESCRIPTION:So often folks dress up for Easter. Some may look pretty spiffy here today! We just aren’t a particularly formal church\, so there won’t be a great deal of dressing up in our finest for Easter. However\, we are all highly encouraged to take off our rags and be dressed up in the spotless radiance of Christ! We will actually have an opportunity to do that at the conclusion of the message. Wear that ugly rag during worship with disgust and shame! Then put on the new after today’s drama to represent our joy in Christ dressing us in His righteousness that He bought for us on a Friday called “Good” and finished on Easter Sunday with resurrection. The old has gone. The new has come! We are a rags to riches story. Have a blessed Easter! \nPlease join us today\, for a dramatic and inspiring Easter service! Listen on Facebook live\, watch on YouTube\, cruise into our drive-in venue\, or worship in-person in our spacious\, comfortable auditorium! \n
URL:http://frcfremont.org/church/event/worship-message-rags-to-riches-an-easter-story/
LOCATION:FRC\, 348 East Main St.\, Fremont\, MI\, 49412
CATEGORIES:Community,Fellowship
END:VEVENT
END:VCALENDAR