BEGIN:VCALENDAR
VERSION:2.0
PRODID:-//FRC Church - ECPv5.1.4//NONSGML v1.0//EN
CALSCALE:GREGORIAN
METHOD:PUBLISH
X-WR-CALNAME:FRC Church
X-ORIGINAL-URL:http://frcfremont.org/church
X-WR-CALDESC:Events for FRC Church
BEGIN:VTIMEZONE
TZID:America/New_York
BEGIN:DAYLIGHT
TZOFFSETFROM:-0500
TZOFFSETTO:-0400
TZNAME:EDT
DTSTART:20210314T070000
END:DAYLIGHT
BEGIN:STANDARD
TZOFFSETFROM:-0400
TZOFFSETTO:-0500
TZNAME:EST
DTSTART:20211107T060000
END:STANDARD
END:VTIMEZONE
BEGIN:VEVENT
DTSTART;TZID=America/New_York:20210214T100000
DTEND;TZID=America/New_York:20210214T110000
DTSTAMP:20260420T111106
CREATED:20210212T164917Z
LAST-MODIFIED:20210212T164917Z
UID:24870-1613296800-1613300400@frcfremont.org
SUMMARY:Worship Message - Prayer as the Battle
DESCRIPTION:Today marks the 2nd week in our prayer mini-series\, where we will discuss the idea of prayer as a “battle.” Many think that spiritually\, the most crucial moment to be strong is at the moment of most resistance. Strikingly\, Jesus fought most passionately His upcoming trial and death in prayer at Gethsemane. This allowed Him to be strong before Pilate and at the cross. In His prayer\, Jesus turned His feelings about the cross over to the Father’s will. While disciples slept\, Jesus wrestled. This allowed Jesus to accept His trial and death as the disciples ran and hid. \n\nToday\, we consider prayer as the “real” battleground for whatever resistance we face. Prayer “is” the battle! By being obedient in prayer\, long before the moment of “most” resistance\, we can be better prepared to meet the enemy. \nPlease join us for the message as we discuss prayer in the battlefield! \n\n
URL:http://frcfremont.org/church/event/worship-message-prayer-as-the-battle/
LOCATION:FRC\, 348 East Main St.\, Fremont\, MI\, 49412
CATEGORIES:Community,Fellowship
END:VEVENT
END:VCALENDAR