BEGIN:VCALENDAR
VERSION:2.0
PRODID:-//FRC Church - ECPv5.1.4//NONSGML v1.0//EN
CALSCALE:GREGORIAN
METHOD:PUBLISH
X-WR-CALNAME:FRC Church
X-ORIGINAL-URL:http://frcfremont.org/church
X-WR-CALDESC:Events for FRC Church
BEGIN:VTIMEZONE
TZID:America/New_York
BEGIN:DAYLIGHT
TZOFFSETFROM:-0500
TZOFFSETTO:-0400
TZNAME:EDT
DTSTART:20210314T070000
END:DAYLIGHT
BEGIN:STANDARD
TZOFFSETFROM:-0400
TZOFFSETTO:-0500
TZNAME:EST
DTSTART:20211107T060000
END:STANDARD
END:VTIMEZONE
BEGIN:VEVENT
DTSTART;TZID=America/New_York:20210620T100000
DTEND;TZID=America/New_York:20210620T110000
DTSTAMP:20260421T201232
CREATED:20210618T163613Z
LAST-MODIFIED:20210618T163613Z
UID:26003-1624183200-1624186800@frcfremont.org
SUMMARY:Worship Message - Pothole
DESCRIPTION:Today we continue with our new worship series: “Stories of Abraham: Trusting a Saving God.”  \nWe begin with unpacking Abram’s response to the famine. Last Sunday\, we celebrated his move to trust the God he barely knew and go to a land that God promised to show him. Today we learn how easy it is to return to our default way of living in times of difficulty or famine. God’s mercy in the midst of the mess Abram created helps us remember the love and mercy God has toward us. \nPlease join us for the message today\, as we learn more about the story of Abraham. Listen on Facebook live\, watch on YouTube\, cruise into our drive-in venue\, or worship in-person in our spacious\, air-conditioned auditorium! \n
URL:http://frcfremont.org/church/event/worship-message-pothole/
LOCATION:FRC\, 348 East Main St.\, Fremont\, MI\, 49412
CATEGORIES:Community,Fellowship
ATTACH;FMTTYPE=image/png:http://frcfremont.org/church/wp-content/uploads/2021/06/6-13-2021.png
END:VEVENT
END:VCALENDAR