BEGIN:VCALENDAR
VERSION:2.0
PRODID:-//FRC Church - ECPv5.1.4//NONSGML v1.0//EN
CALSCALE:GREGORIAN
METHOD:PUBLISH
X-WR-CALNAME:FRC Church
X-ORIGINAL-URL:http://frcfremont.org/church
X-WR-CALDESC:Events for FRC Church
BEGIN:VTIMEZONE
TZID:America/New_York
BEGIN:DAYLIGHT
TZOFFSETFROM:-0500
TZOFFSETTO:-0400
TZNAME:EDT
DTSTART:20220313T070000
END:DAYLIGHT
BEGIN:STANDARD
TZOFFSETFROM:-0400
TZOFFSETTO:-0500
TZNAME:EST
DTSTART:20221106T060000
END:STANDARD
END:VTIMEZONE
BEGIN:VEVENT
DTSTART;TZID=America/New_York:20220320T100000
DTEND;TZID=America/New_York:20220320T110000
DTSTAMP:20260420T145232
CREATED:20220317T172404Z
LAST-MODIFIED:20220317T172404Z
UID:28355-1647770400-1647774000@frcfremont.org
SUMMARY:Worship Message - Our Greatest Problem
DESCRIPTION:Sin is humanity’s greatest problem. And\, it’s a problem we can do absolutely nothing about. We are totally depraved\, as bad off as we can possibly be! Let’s consider the implications\, and a God-sized solution.  It’s Lent!  Humble yourself before the Christ of the cross. This is not “feel-good” church\, because Christ’s sacrifice for human sinfulness was costly and painful. He calls humanity to follow and be disciples – not follow and “feel good.”  \nPlease join us today\, as we contemplate humanity and our sin! Listen on Facebook live\, watch on YouTube\, cruise into our drive-in venue\, or worship in-person in our spacious\, comfortable auditorium! \n
URL:http://frcfremont.org/church/event/worship-message-our-greatest-problem/
LOCATION:FRC\, 348 East Main St.\, Fremont\, MI\, 49412
CATEGORIES:Community,Fellowship
ATTACH;FMTTYPE=image/jpeg:http://frcfremont.org/church/wp-content/uploads/2022/03/MES20_07_3d.jpg
END:VEVENT
END:VCALENDAR