BEGIN:VCALENDAR
VERSION:2.0
PRODID:-//FRC Church - ECPv5.1.4//NONSGML v1.0//EN
CALSCALE:GREGORIAN
METHOD:PUBLISH
X-WR-CALNAME:FRC Church
X-ORIGINAL-URL:http://frcfremont.org/church
X-WR-CALDESC:Events for FRC Church
BEGIN:VTIMEZONE
TZID:America/New_York
BEGIN:DAYLIGHT
TZOFFSETFROM:-0500
TZOFFSETTO:-0400
TZNAME:EDT
DTSTART:20210314T070000
END:DAYLIGHT
BEGIN:STANDARD
TZOFFSETFROM:-0400
TZOFFSETTO:-0500
TZNAME:EST
DTSTART:20211107T060000
END:STANDARD
END:VTIMEZONE
BEGIN:VEVENT
DTSTART;TZID=America/New_York:20211226T100000
DTEND;TZID=America/New_York:20211226T110000
DTSTAMP:20260420T224702
CREATED:20211223T200530Z
LAST-MODIFIED:20211223T200530Z
UID:27676-1640512800-1640516400@frcfremont.org
SUMMARY:Worship Message - O Little Town of Bethlehem
DESCRIPTION:Sometimes evil seems so massive\, so immense\, so consuming\, that the triumph of good is a sheer human impossibility. So it seemed in Bethlehem\, as Jesus was born\, and Herod bore down on that tiny village to destroy the little boy Jesus. \n \nPlease join us today for the final message in our worship series about Jesus’ home towns! Listen on Facebook live\, watch on YouTube\, cruise into our drive-in venue\, or worship in-person in our spacious\, comfortable auditorium! \n
URL:http://frcfremont.org/church/event/worship-message-o-little-town-of-bethlehem/
LOCATION:FRC\, 348 East Main St.\, Fremont\, MI\, 49412
CATEGORIES:Community,Fellowship
ATTACH;FMTTYPE=image/png:http://frcfremont.org/church/wp-content/uploads/2021/12/Hometown-Jesus.png
END:VEVENT
END:VCALENDAR