BEGIN:VCALENDAR
VERSION:2.0
PRODID:-//FRC Church - ECPv5.1.4//NONSGML v1.0//EN
CALSCALE:GREGORIAN
METHOD:PUBLISH
X-WR-CALNAME:FRC Church
X-ORIGINAL-URL:http://frcfremont.org/church
X-WR-CALDESC:Events for FRC Church
BEGIN:VTIMEZONE
TZID:America/New_York
BEGIN:DAYLIGHT
TZOFFSETFROM:-0500
TZOFFSETTO:-0400
TZNAME:EDT
DTSTART:20210314T070000
END:DAYLIGHT
BEGIN:STANDARD
TZOFFSETFROM:-0400
TZOFFSETTO:-0500
TZNAME:EST
DTSTART:20211107T060000
END:STANDARD
END:VTIMEZONE
BEGIN:VEVENT
DTSTART;TZID=America/New_York:20210314T100000
DTEND;TZID=America/New_York:20210314T110000
DTSTAMP:20260420T221913
CREATED:20210312T173655Z
LAST-MODIFIED:20210312T173655Z
UID:25038-1615716000-1615719600@frcfremont.org
SUMMARY:Worship Message - New You
DESCRIPTION:Last week\, we learned about the old man outside of Christ. We are leaky cisterns that refuse the fresh spring water\, instead drinking of our own solutions. Today\, we will learn how we become new when we accept Christ and grow in relationship to him. \nPlease join us for the message today\, as we learn more about how Christ makes us a new creation! Listen on Facebook live\, watch on YouTube\, cruise into our drive-in venue\, or worship in-person in our spacious\, socially-distanced auditorium! (Per governor’s executive orders\, congregants are strongly encouraged to wear face coverings during religious services.) \n
URL:http://frcfremont.org/church/event/worship-message-new-you/
LOCATION:FRC\, 348 East Main St.\, Fremont\, MI\, 49412
CATEGORIES:Community,Fellowship
ATTACH;FMTTYPE=image/png:http://frcfremont.org/church/wp-content/uploads/2021/03/3-14-21.png
END:VEVENT
END:VCALENDAR