BEGIN:VCALENDAR
VERSION:2.0
PRODID:-//FRC Church - ECPv5.1.4//NONSGML v1.0//EN
CALSCALE:GREGORIAN
METHOD:PUBLISH
X-WR-CALNAME:FRC Church
X-ORIGINAL-URL:http://frcfremont.org/church
X-WR-CALDESC:Events for FRC Church
BEGIN:VTIMEZONE
TZID:America/New_York
BEGIN:DAYLIGHT
TZOFFSETFROM:-0500
TZOFFSETTO:-0400
TZNAME:EDT
DTSTART:20230312T070000
END:DAYLIGHT
BEGIN:STANDARD
TZOFFSETFROM:-0400
TZOFFSETTO:-0500
TZNAME:EST
DTSTART:20231105T060000
END:STANDARD
END:VTIMEZONE
BEGIN:VEVENT
DTSTART;TZID=America/New_York:20230108T100000
DTEND;TZID=America/New_York:20230108T110000
DTSTAMP:20260419T163847
CREATED:20230106T172213Z
LAST-MODIFIED:20230106T172213Z
UID:29725-1673172000-1673175600@frcfremont.org
SUMMARY:Worship Message - My Emotions and Me
DESCRIPTION:God gives us the gift of emotions\, but when they rule our being\, they destroy us. On the other hand\, when emotions rightly inform us\, they can help positively shape us. Emotions help fill life with meaning\, and help us to rightly respond to situations. We will look at three biggies: anger\, sadness\, and desire. Here’s a question to ponder as we launch the series: Were the emotions of anger\, sadness\, and desire present before the fall into sin? \nPlease join us today as we learn about God’s gift of emotions! Listen on Facebook live\, watch on YouTube\, or worship in-person in our spacious\, comfortable auditorium! \n
URL:http://frcfremont.org/church/event/worship-message-my-emotions-and-me/
LOCATION:FRC\, 348 East Main St.\, Fremont\, MI\, 49412
CATEGORIES:Community,Fellowship
ATTACH;FMTTYPE=image/png:http://frcfremont.org/church/wp-content/uploads/2023/01/1-8-2022.png
END:VEVENT
END:VCALENDAR