BEGIN:VCALENDAR
VERSION:2.0
PRODID:-//FRC Church - ECPv5.1.4//NONSGML v1.0//EN
CALSCALE:GREGORIAN
METHOD:PUBLISH
X-WR-CALNAME:FRC Church
X-ORIGINAL-URL:http://frcfremont.org/church
X-WR-CALDESC:Events for FRC Church
BEGIN:VTIMEZONE
TZID:America/New_York
BEGIN:DAYLIGHT
TZOFFSETFROM:-0500
TZOFFSETTO:-0400
TZNAME:EDT
DTSTART:20220313T070000
END:DAYLIGHT
BEGIN:STANDARD
TZOFFSETFROM:-0400
TZOFFSETTO:-0500
TZNAME:EST
DTSTART:20221106T060000
END:STANDARD
END:VTIMEZONE
BEGIN:VEVENT
DTSTART;TZID=America/New_York:20220626T100000
DTEND;TZID=America/New_York:20220626T110000
DTSTAMP:20260420T091454
CREATED:20220624T150406Z
LAST-MODIFIED:20220624T150406Z
UID:28568-1656237600-1656241200@frcfremont.org
SUMMARY:Worship Message - Ministry of the Towel
DESCRIPTION:What would you do if you were about to die? Any last requests?  What’s on your bucket list? We see clearly what Jesus would do\, because of what He did. He washed the disciples’ feet. And this was one of His last acts meant to bestow profound consequence on His disciples. . . . and on us. We have the ministry of the towel. \nPlease join us today for a timely message about ministry! Listen on Facebook live\, watch on YouTube\, or worship in-person in our spacious\, comfortable auditorium! \n  \n
URL:http://frcfremont.org/church/event/worship-message-ministry-of-the-towel/
LOCATION:FRC\, 348 East Main St.\, Fremont\, MI\, 49412
CATEGORIES:Community,Fellowship
ATTACH;FMTTYPE=image/png:http://frcfremont.org/church/wp-content/uploads/2022/06/6-26-2022.png
END:VEVENT
END:VCALENDAR