BEGIN:VCALENDAR
VERSION:2.0
PRODID:-//FRC Church - ECPv5.1.4//NONSGML v1.0//EN
CALSCALE:GREGORIAN
METHOD:PUBLISH
X-WR-CALNAME:FRC Church
X-ORIGINAL-URL:http://frcfremont.org/church
X-WR-CALDESC:Events for FRC Church
BEGIN:VTIMEZONE
TZID:America/New_York
BEGIN:DAYLIGHT
TZOFFSETFROM:-0500
TZOFFSETTO:-0400
TZNAME:EDT
DTSTART:20230312T070000
END:DAYLIGHT
BEGIN:STANDARD
TZOFFSETFROM:-0400
TZOFFSETTO:-0500
TZNAME:EST
DTSTART:20231105T060000
END:STANDARD
END:VTIMEZONE
BEGIN:VEVENT
DTSTART;TZID=America/New_York:20230101T100000
DTEND;TZID=America/New_York:20230101T110000
DTSTAMP:20260419T134220
CREATED:20221230T181913Z
LAST-MODIFIED:20221230T181913Z
UID:29662-1672567200-1672570800@frcfremont.org
SUMMARY:Worship Message - Live Expectantly
DESCRIPTION:What are you expecting in 2023? What should Christians expect? Let’s compare with the Apostle Paul’s expectations as he writes from a Philippi jail with his expectations and hopes for the future. \nPlease join us this today as reflect on how to live for Jesus in the New Year! Listen on Facebook live\, watch on YouTube\, or worship in-person in our spacious\, comfortable auditorium! \n
URL:http://frcfremont.org/church/event/worship-message-live-expectantly/
LOCATION:FRC\, 348 East Main St.\, Fremont\, MI\, 49412
CATEGORIES:Community,Fellowship
ATTACH;FMTTYPE=image/jpeg:http://frcfremont.org/church/wp-content/uploads/2022/12/1-1-2022.jpg
END:VEVENT
END:VCALENDAR