BEGIN:VCALENDAR
VERSION:2.0
PRODID:-//FRC Church - ECPv5.1.4//NONSGML v1.0//EN
CALSCALE:GREGORIAN
METHOD:PUBLISH
X-WR-CALNAME:FRC Church
X-ORIGINAL-URL:http://frcfremont.org/church
X-WR-CALDESC:Events for FRC Church
BEGIN:VTIMEZONE
TZID:America/New_York
BEGIN:DAYLIGHT
TZOFFSETFROM:-0500
TZOFFSETTO:-0400
TZNAME:EDT
DTSTART:20210314T070000
END:DAYLIGHT
BEGIN:STANDARD
TZOFFSETFROM:-0400
TZOFFSETTO:-0500
TZNAME:EST
DTSTART:20211107T060000
END:STANDARD
END:VTIMEZONE
BEGIN:VEVENT
DTSTART;TZID=America/New_York:20210221T100000
DTEND;TZID=America/New_York:20210221T110000
DTSTAMP:20260420T141222
CREATED:20210218T200646Z
LAST-MODIFIED:20210218T200646Z
UID:24979-1613901600-1613905200@frcfremont.org
SUMMARY:Worship Message - Listening
DESCRIPTION:Today we will be wrapping up our prayer mini-series\, and we will consider the idea that prayer is a 2-way conversation. It involves not only us speaking\, but God speaking as well.  Are we listening when He speaks?  There have been some wonderful (miraculous?) God answers lately at FRC in direct answer to our prayers. Will you listen? \nPlease join us for the message today\, as we discuss the “listening” part of prayer! Listen on Facebook live\, watch on YouTube\, cruise into our drive-in venue\, or worship in-person in our spacious\, socially-distanced auditorium! (Per governor’s executive orders\, congregants are strongly encouraged to wear face coverings during religious services.) \n
URL:http://frcfremont.org/church/event/worship-message-listening/
LOCATION:FRC\, 348 East Main St.\, Fremont\, MI\, 49412
CATEGORIES:Community,Fellowship
END:VEVENT
END:VCALENDAR