BEGIN:VCALENDAR
VERSION:2.0
PRODID:-//FRC Church - ECPv5.1.4//NONSGML v1.0//EN
CALSCALE:GREGORIAN
METHOD:PUBLISH
X-WR-CALNAME:FRC Church
X-ORIGINAL-URL:http://frcfremont.org/church
X-WR-CALDESC:Events for FRC Church
BEGIN:VTIMEZONE
TZID:America/New_York
BEGIN:DAYLIGHT
TZOFFSETFROM:-0500
TZOFFSETTO:-0400
TZNAME:EDT
DTSTART:20210314T070000
END:DAYLIGHT
BEGIN:STANDARD
TZOFFSETFROM:-0400
TZOFFSETTO:-0500
TZNAME:EST
DTSTART:20211107T060000
END:STANDARD
END:VTIMEZONE
BEGIN:VEVENT
DTSTART;TZID=America/New_York:20210808T100000
DTEND;TZID=America/New_York:20210808T110000
DTSTAMP:20260421T213457
CREATED:20210806T163539Z
LAST-MODIFIED:20210806T163539Z
UID:26737-1628416800-1628420400@frcfremont.org
SUMMARY:Worship Message - Laughter & Rejection: Where's God?
DESCRIPTION:Laughter (Isaac) is born!. . . . .  . Finally!!  God keeps His promise according to His timing. Yet\, in the aftermath\, we find a family rivalry renews. \nToday\, we will learn through this story that even amid family conflict or rejection\, we can believe God is wise\, good\, and can be trusted. \nPlease join us for the message today as we follow along in the story of Abraham & Sarah! Listen on Facebook live\, watch on YouTube\, cruise into our drive-in venue\, or worship in-person in our spacious\, air-conditioned auditorium! \n
URL:http://frcfremont.org/church/event/worship-message-laughter-rejection-wheres-god/
LOCATION:FRC\, 348 East Main St.\, Fremont\, MI\, 49412
CATEGORIES:Community,Fellowship
ATTACH;FMTTYPE=image/png:http://frcfremont.org/church/wp-content/uploads/2021/06/6-13-2021.png
END:VEVENT
END:VCALENDAR