BEGIN:VCALENDAR
VERSION:2.0
PRODID:-//FRC Church - ECPv5.1.4//NONSGML v1.0//EN
CALSCALE:GREGORIAN
METHOD:PUBLISH
X-WR-CALNAME:FRC Church
X-ORIGINAL-URL:http://frcfremont.org/church
X-WR-CALDESC:Events for FRC Church
BEGIN:VTIMEZONE
TZID:America/New_York
BEGIN:DAYLIGHT
TZOFFSETFROM:-0500
TZOFFSETTO:-0400
TZNAME:EDT
DTSTART:20210314T070000
END:DAYLIGHT
BEGIN:STANDARD
TZOFFSETFROM:-0400
TZOFFSETTO:-0500
TZNAME:EST
DTSTART:20211107T060000
END:STANDARD
END:VTIMEZONE
BEGIN:VEVENT
DTSTART;TZID=America/New_York:20210124T100000
DTEND;TZID=America/New_York:20210124T110000
DTSTAMP:20260420T052933
CREATED:20210122T144324Z
LAST-MODIFIED:20210122T144325Z
UID:23240-1611482400-1611486000@frcfremont.org
SUMMARY:Worship Message - Invest\, Compound\, Return
DESCRIPTION:In today’s service\, we will look at biblical guidance on investing\, compounding\, and gaining a return. In doing so\, we will consider Jesus’ parable of the talents\, in Matthew 25:14-30. We will spend some time discussing and pondering the difference between a steward\, which the Bible says we are\, and an owner\, which most consider themselves to be. The difference is exhilarating and life giving! \nPlease join us for the message today\, as we learn more about Jesus’ teaching on stewardship! \n
URL:http://frcfremont.org/church/event/worship-message-invest-compound-return/
LOCATION:FRC\, 348 East Main St.\, Fremont\, MI\, 49412
CATEGORIES:Community,Fellowship
ATTACH;FMTTYPE=image/png:http://frcfremont.org/church/wp-content/uploads/2021/01/1-24-2021.png
END:VEVENT
END:VCALENDAR