BEGIN:VCALENDAR
VERSION:2.0
PRODID:-//FRC Church - ECPv5.1.4//NONSGML v1.0//EN
CALSCALE:GREGORIAN
METHOD:PUBLISH
X-WR-CALNAME:FRC Church
X-ORIGINAL-URL:http://frcfremont.org/church
X-WR-CALDESC:Events for FRC Church
BEGIN:VTIMEZONE
TZID:America/New_York
BEGIN:DAYLIGHT
TZOFFSETFROM:-0500
TZOFFSETTO:-0400
TZNAME:EDT
DTSTART:20220313T070000
END:DAYLIGHT
BEGIN:STANDARD
TZOFFSETFROM:-0400
TZOFFSETTO:-0500
TZNAME:EST
DTSTART:20221106T060000
END:STANDARD
END:VTIMEZONE
BEGIN:VEVENT
DTSTART;TZID=America/New_York:20220424T100000
DTEND;TZID=America/New_York:20220424T110000
DTSTAMP:20260420T090358
CREATED:20220422T161447Z
LAST-MODIFIED:20220422T161447Z
UID:28426-1650794400-1650798000@frcfremont.org
SUMMARY:Worship Message - I Will Not Be Shaken
DESCRIPTION:Today is GEMS Sunday! We will celebrate our girls’ GEMS club as the girls lead worship and share their favorite worship songs! \nThese are perilous times. It seems like everything is in flux. Just when covid wanes\, a war begins. Sexual and gender confusion is rampant. Gender is now considered by some as not assigned by God\, but chosen by feeling. In the midst of worldwide chaos\, God issues sure promises\, and invites us to trust. In the context of a relationship with a rock solid dependable God\, we can declare with the GEMS\, “I will not be shaken.” \nPlease join us for GEMS Sunday today and support our GEMS Girls Club! Listen on Facebook live\, watch on YouTube\, cruise into our drive-in venue\, or worship in-person in our spacious\, comfortable auditorium! \n
URL:http://frcfremont.org/church/event/worship-message-i-will-not-be-shaken/
LOCATION:FRC\, 348 East Main St.\, Fremont\, MI\, 49412
CATEGORIES:Community,Fellowship,GEMS
ATTACH;FMTTYPE=image/jpeg:http://frcfremont.org/church/wp-content/uploads/2022/04/Inkedmarch-0622-standing-firm-on-4t9sJQX0iPM-VgXeqAdnsw3.1400x1400_LI.jpg
END:VEVENT
END:VCALENDAR