BEGIN:VCALENDAR
VERSION:2.0
PRODID:-//FRC Church - ECPv5.1.4//NONSGML v1.0//EN
CALSCALE:GREGORIAN
METHOD:PUBLISH
X-WR-CALNAME:FRC Church
X-ORIGINAL-URL:http://frcfremont.org/church
X-WR-CALDESC:Events for FRC Church
BEGIN:VTIMEZONE
TZID:America/New_York
BEGIN:DAYLIGHT
TZOFFSETFROM:-0500
TZOFFSETTO:-0400
TZNAME:EDT
DTSTART:20220313T070000
END:DAYLIGHT
BEGIN:STANDARD
TZOFFSETFROM:-0400
TZOFFSETTO:-0500
TZNAME:EST
DTSTART:20221106T060000
END:STANDARD
END:VTIMEZONE
BEGIN:VEVENT
DTSTART;TZID=America/New_York:20221106T100000
DTEND;TZID=America/New_York:20221106T110000
DTSTAMP:20260419T192230
CREATED:20221104T173850Z
LAST-MODIFIED:20221104T173850Z
UID:29110-1667728800-1667732400@frcfremont.org
SUMMARY:Worship Message - Fully Equipped
DESCRIPTION:\nThe Bible has the power to equip us thoroughly. Today\, we will learn how the Bible provides endurance to continue in the good work God has for us. We will see how the Bible is God-breathed and inspired\, which enables us to partner with God in His work. We are challenged to remember that the Bible is useful in shaping us so God can use us to shape others.\n\n\n\nPlease join us for the message today as we discover how the Bible equips us to better serve God! Listen on Facebook live\, watch on YouTube\, or worship in-person in our spacious\, comfortable auditorium!\n\n
URL:http://frcfremont.org/church/event/worship-message-fully-equipped/
LOCATION:FRC\, 348 East Main St.\, Fremont\, MI\, 49412
CATEGORIES:Community,Fellowship
END:VEVENT
END:VCALENDAR