BEGIN:VCALENDAR
VERSION:2.0
PRODID:-//FRC Church - ECPv5.1.4//NONSGML v1.0//EN
CALSCALE:GREGORIAN
METHOD:PUBLISH
X-WR-CALNAME:FRC Church
X-ORIGINAL-URL:http://frcfremont.org/church
X-WR-CALDESC:Events for FRC Church
BEGIN:VTIMEZONE
TZID:America/New_York
BEGIN:DAYLIGHT
TZOFFSETFROM:-0500
TZOFFSETTO:-0400
TZNAME:EDT
DTSTART:20210314T070000
END:DAYLIGHT
BEGIN:STANDARD
TZOFFSETFROM:-0400
TZOFFSETTO:-0500
TZNAME:EST
DTSTART:20211107T060000
END:STANDARD
END:VTIMEZONE
BEGIN:VEVENT
DTSTART;TZID=America/New_York:20210613T100000
DTEND;TZID=America/New_York:20210613T110000
DTSTAMP:20260421T202804
CREATED:20210610T181335Z
LAST-MODIFIED:20210610T181335Z
UID:25350-1623578400-1623582000@frcfremont.org
SUMMARY:Worship Message - Following a God Unknown
DESCRIPTION:Today marks the first week of our new series: “Stories of Abraham: Trusting a Saving God.”  \nIt’s summer\, so let’s take a trip to visit our spiritual grandfather Abraham. There is much we can learn about trusting God from traveling with Abraham. We will begin with pondering how God instructed Abram to move\, and promises that Abram will bless the nations. Abram doesn’t know God at the beginning of the journey\, and yet he obeys. His obedience ripples out through the pages of the Bible.  \nWe see that God asks US to move in unique ways in our life. We may never even know the ripples our obedience causes\, but we are part of something bigger. \nPlease join us for the message today\, as we learn about living in the obedience of God. Listen on Facebook live\, watch on YouTube\, cruise into our drive-in venue\, or worship in-person in our spacious\, air-conditioned auditorium! \n
URL:http://frcfremont.org/church/event/worship-message-following-a-god-unknown/
LOCATION:FRC\, 348 East Main St.\, Fremont\, MI\, 49412
CATEGORIES:Community,Fellowship
ATTACH;FMTTYPE=image/png:http://frcfremont.org/church/wp-content/uploads/2021/06/6-13-2021.png
END:VEVENT
END:VCALENDAR