BEGIN:VCALENDAR
VERSION:2.0
PRODID:-//FRC Church - ECPv5.1.4//NONSGML v1.0//EN
CALSCALE:GREGORIAN
METHOD:PUBLISH
X-WR-CALNAME:FRC Church
X-ORIGINAL-URL:http://frcfremont.org/church
X-WR-CALDESC:Events for FRC Church
BEGIN:VTIMEZONE
TZID:America/New_York
BEGIN:DAYLIGHT
TZOFFSETFROM:-0500
TZOFFSETTO:-0400
TZNAME:EDT
DTSTART:20220313T070000
END:DAYLIGHT
BEGIN:STANDARD
TZOFFSETFROM:-0400
TZOFFSETTO:-0500
TZNAME:EST
DTSTART:20221106T060000
END:STANDARD
END:VTIMEZONE
BEGIN:VEVENT
DTSTART;TZID=America/New_York:20221120T100000
DTEND;TZID=America/New_York:20221120T110000
DTSTAMP:20260419T203033
CREATED:20221118T192555Z
LAST-MODIFIED:20221118T192555Z
UID:29170-1668938400-1668942000@frcfremont.org
SUMMARY:Worship Message - Doubting the Bible
DESCRIPTION:Are you a doubter about the reliability of the Bible? If so\, you have come to the right place! The message today will contain two parts. First\, we consider a large piece of evidence for the reliability of the Bible. Second\, we consider three forms of doubt: moral\, intellectual\, and psychological. Finally\, we will have some suggestions for navigating doubts that will help to build faith instead of destroying it. \nPlease join us for the message this today as we discuss the reliability of the Bible! Listen on Facebook live\, watch on YouTube\, or worship in-person in our spacious\, comfortable auditorium! \n
URL:http://frcfremont.org/church/event/worship-message-doubting-the-bible/
LOCATION:FRC\, 348 East Main St.\, Fremont\, MI\, 49412
CATEGORIES:Community,Fellowship
END:VEVENT
END:VCALENDAR