BEGIN:VCALENDAR
VERSION:2.0
PRODID:-//FRC Church - ECPv5.1.4//NONSGML v1.0//EN
CALSCALE:GREGORIAN
METHOD:PUBLISH
X-WR-CALNAME:FRC Church
X-ORIGINAL-URL:http://frcfremont.org/church
X-WR-CALDESC:Events for FRC Church
BEGIN:VTIMEZONE
TZID:America/New_York
BEGIN:DAYLIGHT
TZOFFSETFROM:-0500
TZOFFSETTO:-0400
TZNAME:EDT
DTSTART:20220313T070000
END:DAYLIGHT
BEGIN:STANDARD
TZOFFSETFROM:-0400
TZOFFSETTO:-0500
TZNAME:EST
DTSTART:20221106T060000
END:STANDARD
END:VTIMEZONE
BEGIN:VEVENT
DTSTART;TZID=America/New_York:20220717T100000
DTEND;TZID=America/New_York:20220717T110000
DTSTAMP:20260420T073445
CREATED:20220715T183040Z
LAST-MODIFIED:20220715T183040Z
UID:28687-1658052000-1658055600@frcfremont.org
SUMMARY:Worship Message - Do You Have a Plan?
DESCRIPTION:\nAre you obedient to God? Not just in the easy things\, but the difficult things?\n\n\n\nBeing obedient to God is not a magical defense against the bad things in this life\, but it certainly does help to minimize exposure to sinful things that can have lasting negative consequences. Those who hope for the best outcomes in life would be wise to pursue God and the things He considers good\, rather than following after sin and sinful things.\n\n\n\nDo you have a specific\, workable plan to follow God\, so you don’t get caught up in the weeds?\n\n\n\nJoin us this today to hear a guest pastor speak about Psalm 34 with a message entitled “Do You Have a Plan?” Listen on Facebook live\, watch on YouTube\, or worship in-person in our spacious\, comfortable auditorium!\n\n
URL:http://frcfremont.org/church/event/worship-message-do-you-have-a-plan/
LOCATION:FRC\, 348 East Main St.\, Fremont\, MI\, 49412
CATEGORIES:Community,Fellowship
ATTACH;FMTTYPE=image/jpeg:http://frcfremont.org/church/wp-content/uploads/2022/07/b4d8ecd2e610d0e2a8a15c4555f84b40.jpg
END:VEVENT
END:VCALENDAR