BEGIN:VCALENDAR
VERSION:2.0
PRODID:-//FRC Church - ECPv5.1.4//NONSGML v1.0//EN
CALSCALE:GREGORIAN
METHOD:PUBLISH
X-WR-CALNAME:FRC Church
X-ORIGINAL-URL:http://frcfremont.org/church
X-WR-CALDESC:Events for FRC Church
BEGIN:VTIMEZONE
TZID:America/New_York
BEGIN:DAYLIGHT
TZOFFSETFROM:-0500
TZOFFSETTO:-0400
TZNAME:EDT
DTSTART:20210314T070000
END:DAYLIGHT
BEGIN:STANDARD
TZOFFSETFROM:-0400
TZOFFSETTO:-0500
TZNAME:EST
DTSTART:20211107T060000
END:STANDARD
END:VTIMEZONE
BEGIN:VEVENT
DTSTART;TZID=America/New_York:20210725T100000
DTEND;TZID=America/New_York:20210725T110000
DTSTAMP:20260421T202824
CREATED:20210723T163016Z
LAST-MODIFIED:20210723T163016Z
UID:26702-1627207200-1627210800@frcfremont.org
SUMMARY:Worship Message - Cutting a Covenant
DESCRIPTION:Today\, we ponder God’s covenant with Abram. Abram has several doubts. Can he trust God? And\, can he trust himself? Using an ancient near eastern ritual\, God declares and seals his relationship with Abram and answers Abram’s doubts. Through this story\, we see that our relationship with God is not dependent upon earning or deserving his favor\, but upon the work of Jesus on the cross. God’s covenant with Abram foreshadows the work of Jesus on the cross. \nPlease join us for the message today as we learn more about God’s covenant with Abram! Listen on Facebook live\, watch on YouTube\, cruise into our drive-in venue\, or worship in-person in our spacious\, air-conditioned auditorium! \n
URL:http://frcfremont.org/church/event/worship-message-cutting-a-covenant/
LOCATION:FRC\, 348 East Main St.\, Fremont\, MI\, 49412
CATEGORIES:Community,Fellowship
ATTACH;FMTTYPE=image/png:http://frcfremont.org/church/wp-content/uploads/2021/06/6-13-2021.png
END:VEVENT
END:VCALENDAR