BEGIN:VCALENDAR
VERSION:2.0
PRODID:-//FRC Church - ECPv5.1.4//NONSGML v1.0//EN
CALSCALE:GREGORIAN
METHOD:PUBLISH
X-WR-CALNAME:FRC Church
X-ORIGINAL-URL:http://frcfremont.org/church
X-WR-CALDESC:Events for FRC Church
BEGIN:VTIMEZONE
TZID:America/New_York
BEGIN:DAYLIGHT
TZOFFSETFROM:-0500
TZOFFSETTO:-0400
TZNAME:EDT
DTSTART:20210314T070000
END:DAYLIGHT
BEGIN:STANDARD
TZOFFSETFROM:-0400
TZOFFSETTO:-0500
TZNAME:EST
DTSTART:20211107T060000
END:STANDARD
END:VTIMEZONE
BEGIN:VEVENT
DTSTART;TZID=America/New_York:20210829T100000
DTEND;TZID=America/New_York:20210829T110000
DTSTAMP:20260421T225149
CREATED:20210827T173324Z
LAST-MODIFIED:20210827T173324Z
UID:26916-1630231200-1630234800@frcfremont.org
SUMMARY:Worship Message - Corinth
DESCRIPTION:Last week\, we heard Paul’s speech before the most educated and elite of the Greek philosophical thinkers as he sought to persuade the learned of Athens to the message of the Gospel. It didn’t end well. There were a few conversions\, but no church was founded. Now\, Paul adjusts his target and heads to a blue collar\, rough\, highly sexualized town called Corinth just miles away from Athens. He moves from society elites to society losers. How will the Gospel do in such a seemingly God-forsaken context? What does this text suggest for a plain\, ordinary group of blue collar Christians like FRC? \nPlease join us for the message today as we learn how Paul spread the Gospel message in Corinth\, and how we can as well! Listen on Facebook live\, watch on YouTube\, cruise into our drive-in venue\, or worship in-person in our spacious\, air-conditioned auditorium! \n
URL:http://frcfremont.org/church/event/worship-message-corinth/
LOCATION:FRC\, 348 East Main St.\, Fremont\, MI\, 49412
CATEGORIES:Community,Fellowship
END:VEVENT
END:VCALENDAR