BEGIN:VCALENDAR
VERSION:2.0
PRODID:-//FRC Church - ECPv5.1.4//NONSGML v1.0//EN
CALSCALE:GREGORIAN
METHOD:PUBLISH
X-WR-CALNAME:FRC Church
X-ORIGINAL-URL:http://frcfremont.org/church
X-WR-CALDESC:Events for FRC Church
BEGIN:VTIMEZONE
TZID:America/New_York
BEGIN:DAYLIGHT
TZOFFSETFROM:-0500
TZOFFSETTO:-0400
TZNAME:EDT
DTSTART:20210314T070000
END:DAYLIGHT
BEGIN:STANDARD
TZOFFSETFROM:-0400
TZOFFSETTO:-0500
TZNAME:EST
DTSTART:20211107T060000
END:STANDARD
END:VTIMEZONE
BEGIN:VEVENT
DTSTART;TZID=America/New_York:20211031T100000
DTEND;TZID=America/New_York:20211031T110000
DTSTAMP:20260421T125407
CREATED:20211029T164611Z
LAST-MODIFIED:20211029T164611Z
UID:27216-1635674400-1635678000@frcfremont.org
SUMMARY:Worship Message - Called To Belong
DESCRIPTION:There’s an old song that goes like this: “I’m so glad I’m a part of the family of God.” Today we learn that we are called to belong. God gathers his sons and daughters to belong to each other and to Him. The gathering of those who belong is called the church. Are you both part of the family\, and glad to be so? \nJoin us today for the next message in our “What on Earth Am I Here For?” worship series! Listen on Facebook live\, watch on YouTube\, cruise into our drive-in venue\, or worship in-person in our spacious\, comfortable auditorium! \n
URL:http://frcfremont.org/church/event/worship-message-called-to-belong/
LOCATION:FRC\, 348 East Main St.\, Fremont\, MI\, 49412
CATEGORIES:Community,Fellowship
ATTACH;FMTTYPE=image/png:http://frcfremont.org/church/wp-content/uploads/2021/10/unnamed.png
END:VEVENT
END:VCALENDAR