BEGIN:VCALENDAR
VERSION:2.0
PRODID:-//FRC Church - ECPv5.1.4//NONSGML v1.0//EN
CALSCALE:GREGORIAN
METHOD:PUBLISH
X-WR-CALNAME:FRC Church
X-ORIGINAL-URL:http://frcfremont.org/church
X-WR-CALDESC:Events for FRC Church
BEGIN:VTIMEZONE
TZID:America/New_York
BEGIN:DAYLIGHT
TZOFFSETFROM:-0500
TZOFFSETTO:-0400
TZNAME:EDT
DTSTART:20210314T070000
END:DAYLIGHT
BEGIN:STANDARD
TZOFFSETFROM:-0400
TZOFFSETTO:-0500
TZNAME:EST
DTSTART:20211107T060000
END:STANDARD
END:VTIMEZONE
BEGIN:VEVENT
DTSTART;TZID=America/New_York:20211107T100000
DTEND;TZID=America/New_York:20211107T110000
DTSTAMP:20260421T070256
CREATED:20211105T165936Z
LAST-MODIFIED:20211105T165936Z
UID:27231-1636279200-1636282800@frcfremont.org
SUMMARY:Worship Message - Called To Become
DESCRIPTION:\nGod’s first purpose for our lives is creating us to Be Loved. Second\, He creates us to Belong. Today\, we discover our third purpose – we are created to Become. We are to Become like Jesus! But what exactly does this mean? There is no way we can become a mini-me of the Christ! But God does want us to become godly with characteristics like love\, joy\, peace\, patience\, etc . . . . Let’s explore God’s intentions for shaping us to be like Jesus!\n\nJoin us today for the next message in our “What on Earth Am I Here For?” worship series! Listen on Facebook live\, watch on YouTube\, cruise into our drive-in venue\, or worship in-person in our spacious\, comfortable auditorium!\n\n
URL:http://frcfremont.org/church/event/worship-message-called-to-become/
LOCATION:FRC\, 348 East Main St.\, Fremont\, MI\, 49412
CATEGORIES:Community,Fellowship
ATTACH;FMTTYPE=image/png:http://frcfremont.org/church/wp-content/uploads/2021/10/unnamed.png
END:VEVENT
END:VCALENDAR