BEGIN:VCALENDAR
VERSION:2.0
PRODID:-//FRC Church - ECPv5.1.4//NONSGML v1.0//EN
CALSCALE:GREGORIAN
METHOD:PUBLISH
X-WR-CALNAME:FRC Church
X-ORIGINAL-URL:http://frcfremont.org/church
X-WR-CALDESC:Events for FRC Church
BEGIN:VTIMEZONE
TZID:America/New_York
BEGIN:DAYLIGHT
TZOFFSETFROM:-0500
TZOFFSETTO:-0400
TZNAME:EDT
DTSTART:20220313T070000
END:DAYLIGHT
BEGIN:STANDARD
TZOFFSETFROM:-0400
TZOFFSETTO:-0500
TZNAME:EST
DTSTART:20221106T060000
END:STANDARD
END:VTIMEZONE
BEGIN:VEVENT
DTSTART;TZID=America/New_York:20220731T100000
DTEND;TZID=America/New_York:20220731T110000
DTSTAMP:20260422T114134
CREATED:20220729T180614Z
LAST-MODIFIED:20220729T180614Z
UID:28740-1659261600-1659265200@frcfremont.org
SUMMARY:Worship Message - Blessing
DESCRIPTION:\nWhat are those words at the end of a church service? “The Lord bless you and keep you?” \n\n\n \n\n\nIs it simply a wonderful wish? Or does God give something to His people? One thing is for sure\, the people attending the service pause reverently\, some extend hands\, others bow their heads\, but all go quiet\, pay attention\, and sense a special moment goes with those holy biblical words. Today we learn what the benediction or blessing at the end of a worship service is and what it does. \n\n\n \n\n\nLast week\, we discovered the beauty of the greeting used in old school worship “grace and peace” and how that greeting was the “Hello” of the early Christians in the midst of the turbulence of persecution. This week\, we reflect on the wonder of the blessing/benediction that concludes a worship service. \n\n\n \n\n\nJoin us this today for a thought-provoking message from Numbers 6:24-26! Listen on Facebook live\, watch on YouTube\, or worship in-person in our spacious\, comfortable auditorium!\n\n
URL:http://frcfremont.org/church/event/worship-message-blessing/
LOCATION:FRC\, 348 East Main St.\, Fremont\, MI\, 49412
CATEGORIES:Community,Fellowship
ATTACH;FMTTYPE=image/jpeg:http://frcfremont.org/church/wp-content/uploads/2022/07/9_04.jpg
END:VEVENT
END:VCALENDAR